BEGIN:VCALENDAR
VERSION:2.0
PRODID:-//Beaumont Events - ECPv6.15.20//NONSGML v1.0//EN
CALSCALE:GREGORIAN
METHOD:PUBLISH
X-WR-CALNAME:Beaumont Events
X-ORIGINAL-URL:https://beaumonteventstx.com
X-WR-CALDESC:Events for Beaumont Events
REFRESH-INTERVAL;VALUE=DURATION:PT1H
X-Robots-Tag:noindex
X-PUBLISHED-TTL:PT1H
BEGIN:VTIMEZONE
TZID:America/Chicago
BEGIN:DAYLIGHT
TZOFFSETFROM:-0600
TZOFFSETTO:-0500
TZNAME:CDT
DTSTART:20160313T080000
END:DAYLIGHT
BEGIN:STANDARD
TZOFFSETFROM:-0500
TZOFFSETTO:-0600
TZNAME:CST
DTSTART:20161106T070000
END:STANDARD
BEGIN:DAYLIGHT
TZOFFSETFROM:-0600
TZOFFSETTO:-0500
TZNAME:CDT
DTSTART:20170312T080000
END:DAYLIGHT
BEGIN:STANDARD
TZOFFSETFROM:-0500
TZOFFSETTO:-0600
TZNAME:CST
DTSTART:20171105T070000
END:STANDARD
BEGIN:DAYLIGHT
TZOFFSETFROM:-0600
TZOFFSETTO:-0500
TZNAME:CDT
DTSTART:20180311T080000
END:DAYLIGHT
BEGIN:STANDARD
TZOFFSETFROM:-0500
TZOFFSETTO:-0600
TZNAME:CST
DTSTART:20181104T070000
END:STANDARD
END:VTIMEZONE
BEGIN:VEVENT
DTSTART;TZID=America/Chicago:20170111T013000
DTEND;TZID=America/Chicago:20170111T013000
DTSTAMP:20260421T113919
CREATED:20161229T022759Z
LAST-MODIFIED:20170118T222519Z
UID:11736-1484098200-1484098200@beaumonteventstx.com
SUMMARY:2017 Economic Outlook Forum
DESCRIPTION:Each year the Regional Economic Development Initiative\, a steering committee organized to oversee the regional objectives of the Southeast Texas Economic Development Foundation\, hosts the Economic Outlook Forum. This premier event brings 250 business and community leaders together to gain insight into the path of our economy and ways to prepare for future growth. \nChris Wallace\, President of the Texas Association of Business (TAB); Sara Tays\, Chair of the TAB; and Judge Jeff Branick\, Jefferson County Judge to give an update on the economic climate of our region. \nTo purchase tickets to the luncheon\, please e-mail ckizer@setedf.org or call 409.838.6585. \nIndividual Tickets $20\nTable of Ten $150
URL:https://beaumonteventstx.com/event/2017-economic-outlook-forum/
LOCATION:Lake at Downtown Event Centre\, 700 Crockett St\, Beaumont\, TX\, 77701
CATEGORIES:Meetings
END:VEVENT
END:VCALENDAR