BEGIN:VCALENDAR
VERSION:2.0
PRODID:-//Beaumont Events - ECPv6.15.20//NONSGML v1.0//EN
CALSCALE:GREGORIAN
METHOD:PUBLISH
X-WR-CALNAME:Beaumont Events
X-ORIGINAL-URL:https://beaumonteventstx.com
X-WR-CALDESC:Events for Beaumont Events
REFRESH-INTERVAL;VALUE=DURATION:PT1H
X-Robots-Tag:noindex
X-PUBLISHED-TTL:PT1H
BEGIN:VTIMEZONE
TZID:America/Chicago
BEGIN:DAYLIGHT
TZOFFSETFROM:-0600
TZOFFSETTO:-0500
TZNAME:CDT
DTSTART:20210314T080000
END:DAYLIGHT
BEGIN:STANDARD
TZOFFSETFROM:-0500
TZOFFSETTO:-0600
TZNAME:CST
DTSTART:20211107T070000
END:STANDARD
BEGIN:DAYLIGHT
TZOFFSETFROM:-0600
TZOFFSETTO:-0500
TZNAME:CDT
DTSTART:20220313T080000
END:DAYLIGHT
BEGIN:STANDARD
TZOFFSETFROM:-0500
TZOFFSETTO:-0600
TZNAME:CST
DTSTART:20221106T070000
END:STANDARD
BEGIN:DAYLIGHT
TZOFFSETFROM:-0600
TZOFFSETTO:-0500
TZNAME:CDT
DTSTART:20230312T080000
END:DAYLIGHT
BEGIN:STANDARD
TZOFFSETFROM:-0500
TZOFFSETTO:-0600
TZNAME:CST
DTSTART:20231105T070000
END:STANDARD
END:VTIMEZONE
BEGIN:VEVENT
DTSTART;TZID=America/Chicago:20220506T200000
DTEND;TZID=America/Chicago:20220506T200000
DTSTAMP:20260424T141630
CREATED:20220304T171956Z
LAST-MODIFIED:20220304T171956Z
UID:14835-1651867200-1651867200@beaumonteventstx.com
SUMMARY:Movie Night - The Goonies
DESCRIPTION:Friday\, May 6\, 2022\nJefferson Theatre \nDoors 6pm\nMovie 7pm \nAdults $6\nKids $4 \nAbout the movie:\nOld-fashioned yarn about a band of adventurous kids who take on the might of a property developing company which plans to destroy their home to build a country club. When the children discover an old pirate map in the attic\, they follow it into an underground cavern in search of lost treasure but come up against plenty of dangerous obstacles along the way. \nClassic Movie Nights are sponsored by Exxonmobil
URL:https://beaumonteventstx.com/event/movie-night-the-goonies/
LOCATION:Jefferson Theatre\, 345 Fannin\, Beaumont\, TX\, 77701
CATEGORIES:Featured,Movies
ATTACH;FMTTYPE=image/jpeg:https://beaumonteventstx.com/wp-content/uploads/2019/06/The-Goonies-web-thumb.jpg
END:VEVENT
BEGIN:VEVENT
DTSTART;TZID=America/Chicago:20220507T120000
DTEND;TZID=America/Chicago:20220507T160000
DTSTAMP:20260424T141630
CREATED:20220427T192302Z
LAST-MODIFIED:20220427T192302Z
UID:14876-1651924800-1651939200@beaumonteventstx.com
SUMMARY:Beaumont Main Street Gala
DESCRIPTION:Saturday\, May 7\, 2022\nJefferson Theatre\n5:00pm – 9:00pm \nExperience The History Of The Gusher Age\, View Historically Significant Vehicles\, And Celebrate The 30 Year Anniversary Of Beaumont Main Street \nGuest Speaker: Greg Riley\, Co-Author Of “Black Gold To Bluegrass”\nEntertainment By Jim Connors\, Singer/Showman & Gifted Organist \nPREMIER SPONSOR: Exxonmobil \nSemi-Formal Dress Or Vintage Wear Encouraged\nTickets include wine and cocktails\, picnic dinner\, and historic entertainment
URL:https://beaumonteventstx.com/event/beaumont-main-street-gala/
LOCATION:Jefferson Theatre\, 345 Fannin\, Beaumont\, TX\, 77701
CATEGORIES:Featured,Galas
ATTACH;FMTTYPE=image/jpeg:https://beaumonteventstx.com/wp-content/uploads/2022/04/beaumontmainstreet.jpg
END:VEVENT
BEGIN:VEVENT
DTSTART;TZID=America/Chicago:20220512T190000
DTEND;TZID=America/Chicago:20220512T210000
DTSTAMP:20260424T141630
CREATED:20220330T152124Z
LAST-MODIFIED:20220511T141907Z
UID:14859-1652382000-1652389200@beaumonteventstx.com
SUMMARY:Sundown Concert Series - Ole Lonesome and Christian Walker
DESCRIPTION:Thursday\, May 12\, 2022\nDowntown Event Centre Lake\nFREE\n6:00pm – 8:00pm \nThis free outdoor summer concert series is the live music escape residents have been yearning for over the last year. Families are encouraged to picnic around the lake\, enjoy the playground\, visit the resident ducks and enjoy live music as the sun sets on our great city. Beer and wine will be available for purchase.
URL:https://beaumonteventstx.com/event/sundown-concert-series/
LOCATION:Lake at Downtown Event Centre\, 700 Crockett St\, Beaumont\, TX\, 77701
CATEGORIES:Featured,Music
ATTACH;FMTTYPE=image/jpeg:https://beaumonteventstx.com/wp-content/uploads/2021/05/SSCS_webthumb.jpg
END:VEVENT
BEGIN:VEVENT
DTSTART;TZID=America/Chicago:20220513T200000
DTEND;TZID=America/Chicago:20220513T200000
DTSTAMP:20260424T141630
CREATED:20220304T170805Z
LAST-MODIFIED:20220509T124143Z
UID:14832-1652472000-1652472000@beaumonteventstx.com
SUMMARY:Movie Night - Friday the 13th Part III 3D
DESCRIPTION:Friday\, May 13\, 2022\nJefferson Theatre\nRated R \nDoors 6pm\nMovie 7pm \nAdults $6 \nAbout the movie:\nThe third installment in the “Friday the 13th” series picks up on the day after the carnage with homicidal maniac Jason Voorhees (Richard Brooker) stealing some clothes and killing a local store owner. Meanwhile\, Chris (Dana Kimmell) and her sometimes boyfriend\, Rick (Paul Kratka)\, are hosting a group of teenage friends at Chris’ lake house. Despite a run-in with a local biker gang\, they enjoy an amiable weekend together — that is\, until Jason begins knocking off kids and bikers alike. \nClassic Movie Nights are sponsored by Exxonmobil
URL:https://beaumonteventstx.com/event/movie-night-friday-the-13th-part-iii-3d/
LOCATION:Jefferson Theatre\, 345 Fannin\, Beaumont\, TX\, 77701
CATEGORIES:Featured,Movies
ATTACH;FMTTYPE=image/jpeg:https://beaumonteventstx.com/wp-content/uploads/2022/03/Fridaythe13th_web.jpg
END:VEVENT
BEGIN:VEVENT
DTSTART;TZID=America/Chicago:20220514T120000
DTEND;TZID=America/Chicago:20220514T190000
DTSTAMP:20260424T141630
CREATED:20220310T201426Z
LAST-MODIFIED:20220506T134235Z
UID:14842-1652529600-1652554800@beaumonteventstx.com
SUMMARY:Viva Artaco
DESCRIPTION:Saturday\, May 14\, 2022\n11am – 6pm\nBeaumont Civic Center \nVIVA ARTACO Hispanic Heritage Festival will take place Saturday\, May 14\, 2022\, at the Beaumont Civic Center and downtown Beaumont. The festival will highlight local artisans\, restaurants\, groups\, attractions\, and more\, to shine a light on the Hispanic culture of our area. The community is invited to join in on the fun for this FREE event. There will be food vendors\, entertainment\, activities\, and games for all to enjoy. \nEVENTS DETAILS 
URL:https://beaumonteventstx.com/event/viva-artaco/
LOCATION:Beaumont Civic Center\, 701 Main Street\, Beaumont\, TX\, 77701
CATEGORIES:Featured,Festivals,Music
ATTACH;FMTTYPE=image/jpeg:https://beaumonteventstx.com/wp-content/uploads/2022/03/VivaArtaco_webthumb.jpg
END:VEVENT
BEGIN:VEVENT
DTSTART;TZID=America/Chicago:20220521T203000
DTEND;TZID=America/Chicago:20220521T203000
DTSTAMP:20260424T141630
CREATED:20220419T131507Z
LAST-MODIFIED:20220421T200225Z
UID:14870-1653165000-1653165000@beaumonteventstx.com
SUMMARY:Eddie Griffin
DESCRIPTION:Eddie Griffin\nSaturday\, May 21\, 2022\nJefferson Theatre \nDoors 6:30pm\nShow 7:30pm \nOpeners Moe Williams\, JB Robinson\, and Charlie Mac \nTickets go on sale Tuesday\, April 19 at 10:00am and can be purchased at Ticketmaster.com or at the Beaumont Civic Center Box Office Monday – Friday from 10AM – 1PM. \nAbout Eddie Griffin:\nA popular comedian turned actor who started his career on-stage as a dare\, funnyman Eddie Griffin has built an ever-growing fan base since jumping onto the comedy scene in 1990. \nBorn in Kansas City\, Missouri\, Eddie was voted class clown three years in a row in high school. His first love was always dance and by the young age of 16\, he opened his own dance studio and was choreographing the Kansas City Chiefs half-time shows. But all of that would soon change when one night his cousin dared him to go on stage at the local comedy club Sanford and Sons where he was told to do 3 minutes. He performed off-the-cuff for 45 minutes successfully. It was then that Griffin purchased a one-way ticket to Los Angeles to pursue his dream of becoming a stand up. \nHe played The Pastor opposite Dave Chappelle\, Lady Gaga and Bradley Cooper in 2018’s Academy Award Winning feature film A Star is Born. \nHis Showtime Comedy Special Eddie Griffin: Undeniable debuted on Showtime in February 2018 to rave reviews. \nAbout the Jefferson Theatre
URL:https://beaumonteventstx.com/event/eddie-griffin/
LOCATION:Jefferson Theatre\, 345 Fannin\, Beaumont\, TX\, 77701
CATEGORIES:Comedy,Featured
ATTACH;FMTTYPE=image/jpeg:https://beaumonteventstx.com/wp-content/uploads/2022/04/eddiegriffin_webthumb.jpg
END:VEVENT
BEGIN:VEVENT
DTSTART;TZID=America/Chicago:20220527T200000
DTEND;TZID=America/Chicago:20220527T200000
DTSTAMP:20260424T141630
CREATED:20220304T173304Z
LAST-MODIFIED:20220304T173304Z
UID:14837-1653681600-1653681600@beaumonteventstx.com
SUMMARY:Movie Night - The Land Before Time
DESCRIPTION:Friday\, May 27\, 2022\nJefferson Theatre \nDoors 6pm\nMovie 7pm \nAdults $6\nKids $4 \nAbout the movie:\nLittlefoot (Gabriel Damon)\, a young plant-eating dinosaur\, is orphaned after his mother (Helen Shaver) perishes while protecting him from a vicious carnivore. With her last breath\, she tells him how to get to the legendary Great Valley\, where he will be reunited with others of his kind. With his friend Cera (Candace Hutson)\, Littlefoot sets out for the fabled land\, meeting a variety of new friends along the way — while also being tracked by the killer dinosaur that mortally wounded his mother. \nClassic Movie Nights are sponsored by Exxonmobil
URL:https://beaumonteventstx.com/event/movie-night-the-land-before-time/
LOCATION:Jefferson Theatre\, 345 Fannin\, Beaumont\, TX\, 77701
CATEGORIES:Featured,Movies
ATTACH;FMTTYPE=image/jpeg:https://beaumonteventstx.com/wp-content/uploads/2021/08/LandBeforeTime_webthumb.jpg
END:VEVENT
END:VCALENDAR