BEGIN:VCALENDAR
VERSION:2.0
PRODID:-//Beaumont Events - ECPv6.15.20//NONSGML v1.0//EN
CALSCALE:GREGORIAN
METHOD:PUBLISH
X-ORIGINAL-URL:https://beaumonteventstx.com
X-WR-CALDESC:Events for Beaumont Events
REFRESH-INTERVAL;VALUE=DURATION:PT1H
X-Robots-Tag:noindex
X-PUBLISHED-TTL:PT1H
BEGIN:VTIMEZONE
TZID:America/Chicago
BEGIN:DAYLIGHT
TZOFFSETFROM:-0600
TZOFFSETTO:-0500
TZNAME:CDT
DTSTART:20200308T080000
END:DAYLIGHT
BEGIN:STANDARD
TZOFFSETFROM:-0500
TZOFFSETTO:-0600
TZNAME:CST
DTSTART:20201101T070000
END:STANDARD
BEGIN:DAYLIGHT
TZOFFSETFROM:-0600
TZOFFSETTO:-0500
TZNAME:CDT
DTSTART:20210314T080000
END:DAYLIGHT
BEGIN:STANDARD
TZOFFSETFROM:-0500
TZOFFSETTO:-0600
TZNAME:CST
DTSTART:20211107T070000
END:STANDARD
BEGIN:DAYLIGHT
TZOFFSETFROM:-0600
TZOFFSETTO:-0500
TZNAME:CDT
DTSTART:20220313T080000
END:DAYLIGHT
BEGIN:STANDARD
TZOFFSETFROM:-0500
TZOFFSETTO:-0600
TZNAME:CST
DTSTART:20221106T070000
END:STANDARD
END:VTIMEZONE
BEGIN:VEVENT
DTSTART;TZID=America/Chicago:20210507T190000
DTEND;TZID=America/Chicago:20210507T190000
DTSTAMP:20260422T062237
CREATED:20210311T211215Z
LAST-MODIFIED:20210322T144846Z
UID:14358-1620414000-1620414000@beaumonteventstx.com
SUMMARY:Movie Nights - Tangled
DESCRIPTION:Classic Movie Nights – Tangled\nFriday\, May 7\, 2021\nJefferson Theatre \nBeautiful princess Rapunzel has been locked away in a tower since she was captured as a baby. Her magical long blonde hair has the power to provide eternal youth\, and the evil Gothel uses this power to keep her young. At the age of 18\, Rapunzel becomes curious about the outside world\, and when a prince uses her tower as a refuge\, she asks him to help her escape. \nDoors 6pm\nMovie 7pm \nAdult $6 \nChildren under 12 years old $4 \nClassic Movie Nights are sponsored by Exxonmobil \n 
URL:https://beaumonteventstx.com/event/movie-nights-tangled/
LOCATION:Jefferson Theatre\, 345 Fannin\, Beaumont\, TX\, 77701
CATEGORIES:Featured,Movies
ATTACH;FMTTYPE=image/jpeg:https://beaumonteventstx.com/wp-content/uploads/2020/12/tangled_webthumb.jpg
END:VEVENT
BEGIN:VEVENT
DTSTART;TZID=America/Chicago:20210514T190000
DTEND;TZID=America/Chicago:20210514T190000
DTSTAMP:20260422T062237
CREATED:20210311T135829Z
LAST-MODIFIED:20210322T145256Z
UID:14356-1621018800-1621018800@beaumonteventstx.com
SUMMARY:Movie Night - The NeverEnding Story
DESCRIPTION:Classic Movie Nights – The NeverEnding Story \nFriday\, May 14\, 2021\nJefferson Theatre \nOn his way to school\, Bastian (Barret Oliver) ducks into a bookstore to avoid bullies. Sneaking away with a book called “The Neverending Story\,” Bastian begins reading it in the school attic. The novel is about Fantasia\, a fantasy land threatened by “The Nothing\,” a darkness that destroys everything it touches. The kingdom needs the help of a human child to survive. When Bastian reads a description of himself in the book\, he begins to wonder if Fantasia is real and needs him to survive. \nDoors 6pm\nMovie 7pm \nRATED PG \nAdult $6 \nChildren under 12 years old $4 \nClassic Movie Nights are sponsored by Exxonmobil
URL:https://beaumonteventstx.com/event/movie-night-the-neverending-story/
LOCATION:Jefferson Theatre\, 345 Fannin\, Beaumont\, TX\, 77701
CATEGORIES:Featured,Movies
ATTACH;FMTTYPE=image/jpeg:https://beaumonteventstx.com/wp-content/uploads/2021/03/TheNeverendingStory_webthumb.jpg
END:VEVENT
BEGIN:VEVENT
DTSTART;TZID=America/Chicago:20210515T200000
DTEND;TZID=America/Chicago:20210515T200000
DTSTAMP:20260422T062237
CREATED:20210318T135837Z
LAST-MODIFIED:20210416T153529Z
UID:14364-1621108800-1621108800@beaumonteventstx.com
SUMMARY:Chad Prather Unapologetic Tour w/ Jesse Peyton
DESCRIPTION:Chad Prather Unapologetic Tour w/ Jesse Peyton\nJefferson Theatre\nSaturday\, May 15\, 2021 \nDoors: 7:00 pm\nEvent: 8:00 pm \nTicket Prices: $50 / $40 / $30 /$25 \nTickets on sale Friday\, March 19 at 10:00am
URL:https://beaumonteventstx.com/event/chad-prather-unapologetic-tour-w-jesse-payton/
LOCATION:Jefferson Theatre\, 345 Fannin\, Beaumont\, TX\, 77701
CATEGORIES:Featured,Music
ATTACH;FMTTYPE=image/jpeg:https://beaumonteventstx.com/wp-content/uploads/2021/03/ChadPrather_webthumb.jpg
END:VEVENT
BEGIN:VEVENT
DTSTART;TZID=America/Chicago:20210521T190000
DTEND;TZID=America/Chicago:20210521T190000
DTSTAMP:20260422T062237
CREATED:20210311T140119Z
LAST-MODIFIED:20210322T145415Z
UID:14357-1621623600-1621623600@beaumonteventstx.com
SUMMARY:Movie Night - Blade Runner
DESCRIPTION:Classic Movie Nights – Blade Runner \nFriday\, May 21\, 2021\nJefferson Theatre \n\n\n\n\nDeckard (Harrison Ford) is forced by the police Boss (M. Emmet Walsh) to continue his old job as Replicant Hunter. His assignment: eliminate four escaped Replicants from the colonies who have returned to Earth. Before starting the job\, Deckard goes to the Tyrell Corporation and he meets Rachel (Sean Young)\, a Replicant girl he falls in love with.\n\n\n\n\n\n\n\nDoors 6pm\n\n\nMovie 7pm \nRATED R \nAdult $6 \nClassic Movie Nights are sponsored by Exxonmobil
URL:https://beaumonteventstx.com/event/movie-night-blade-runner/
LOCATION:Jefferson Theatre\, 345 Fannin\, Beaumont\, TX\, 77701
CATEGORIES:Featured,Movies
ATTACH;FMTTYPE=image/jpeg:https://beaumonteventstx.com/wp-content/uploads/2021/03/BladeRunner_webthumb.jpg
END:VEVENT
END:VCALENDAR