BEGIN:VCALENDAR
VERSION:2.0
PRODID:-//Beaumont Events - ECPv6.15.20//NONSGML v1.0//EN
CALSCALE:GREGORIAN
METHOD:PUBLISH
X-ORIGINAL-URL:https://beaumonteventstx.com
X-WR-CALDESC:Events for Beaumont Events
REFRESH-INTERVAL;VALUE=DURATION:PT1H
X-Robots-Tag:noindex
X-PUBLISHED-TTL:PT1H
BEGIN:VTIMEZONE
TZID:America/Chicago
BEGIN:DAYLIGHT
TZOFFSETFROM:-0600
TZOFFSETTO:-0500
TZNAME:CDT
DTSTART:20190310T080000
END:DAYLIGHT
BEGIN:STANDARD
TZOFFSETFROM:-0500
TZOFFSETTO:-0600
TZNAME:CST
DTSTART:20191103T070000
END:STANDARD
BEGIN:DAYLIGHT
TZOFFSETFROM:-0600
TZOFFSETTO:-0500
TZNAME:CDT
DTSTART:20200308T080000
END:DAYLIGHT
BEGIN:STANDARD
TZOFFSETFROM:-0500
TZOFFSETTO:-0600
TZNAME:CST
DTSTART:20201101T070000
END:STANDARD
BEGIN:DAYLIGHT
TZOFFSETFROM:-0600
TZOFFSETTO:-0500
TZNAME:CDT
DTSTART:20210314T080000
END:DAYLIGHT
BEGIN:STANDARD
TZOFFSETFROM:-0500
TZOFFSETTO:-0600
TZNAME:CST
DTSTART:20211107T070000
END:STANDARD
END:VTIMEZONE
BEGIN:VEVENT
DTSTART;TZID=America/Chicago:20200403T200000
DTEND;TZID=America/Chicago:20200403T200000
DTSTAMP:20260419T134111
CREATED:20200305T154630Z
LAST-MODIFIED:20200318T181923Z
UID:13990-1585944000-1585944000@beaumonteventstx.com
SUMMARY:CANCELLED - Los Tigres Del Norte
DESCRIPTION:The Los Tigres Del Norte Concert scheduled for Friday\, April 3\, 2020 is cancelled. Refunds are available at point of purchase.
URL:https://beaumonteventstx.com/event/los-tigres-del-norte/
LOCATION:Beaumont Civic Center\, 701 Main Street\, Beaumont\, TX\, 77701
CATEGORIES:Featured,Music
ATTACH;FMTTYPE=image/jpeg:https://beaumonteventstx.com/wp-content/uploads/2020/03/LosTigres_webthumb-copy.jpg
END:VEVENT
BEGIN:VEVENT
DTSTART;TZID=America/Chicago:20200404T203000
DTEND;TZID=America/Chicago:20200404T203000
DTSTAMP:20260419T134111
CREATED:20191028T154430Z
LAST-MODIFIED:20200318T184049Z
UID:13760-1586032200-1586032200@beaumonteventstx.com
SUMMARY:POSTPONED - Michael Jackson Tribute Show
DESCRIPTION:Michael Jackson Tribute Show spectacular starring America’s #1 Michael Jackson impersonator Danny Dash Andrews is postponed for a future date.
URL:https://beaumonteventstx.com/event/michael-jackson-tribute-show/
LOCATION:Jefferson Theatre\, 345 Fannin\, Beaumont\, TX\, 77701
CATEGORIES:Dance,Featured,Music
ATTACH;FMTTYPE=image/jpeg:https://beaumonteventstx.com/wp-content/uploads/2019/12/MJpostponed_webthumb.jpg
END:VEVENT
BEGIN:VEVENT
DTSTART;TZID=America/Chicago:20200417T190000
DTEND;TZID=America/Chicago:20200417T190000
DTSTAMP:20260419T134111
CREATED:20200207T170113Z
LAST-MODIFIED:20200324T153408Z
UID:13958-1587150000-1587150000@beaumonteventstx.com
SUMMARY:CANCELLED - Movie Night - Selena
DESCRIPTION:Classic Movie Night – Selena has been cancelled.
URL:https://beaumonteventstx.com/event/movie-night-selena/
LOCATION:Jefferson Theatre\, 345 Fannin\, Beaumont\, TX\, 77701
CATEGORIES:Featured,Movies
ATTACH;FMTTYPE=image/jpeg:https://beaumonteventstx.com/wp-content/uploads/2020/02/Selena_webthumb-copy.jpg
END:VEVENT
BEGIN:VEVENT
DTSTART;TZID=America/Chicago:20200417T191500
DTEND;TZID=America/Chicago:20200417T191500
DTSTAMP:20260419T134111
CREATED:20191126T211104Z
LAST-MODIFIED:20200325T115701Z
UID:13790-1587150900-1587150900@beaumonteventstx.com
SUMMARY:CANCELLED - Rend Collective
DESCRIPTION:The Rend Collective concert scheduled for April 17th at the Julie Rogers Theatre is cancelled. The tour will be notifying ticketbuyers and refunding them. For all inquiries\, please reach out to ticketsupport@echoconcerts.com
URL:https://beaumonteventstx.com/event/rend-collective/
LOCATION:Julie Rogers Theatre\, 765 Pearl Street\, Beaumont\, TX\, 77701
CATEGORIES:Featured,Music
ATTACH;FMTTYPE=image/jpeg:https://beaumonteventstx.com/wp-content/uploads/2019/11/RENDCOLLECTIVEcancel_webthumb.jpg
END:VEVENT
END:VCALENDAR