BEGIN:VCALENDAR
VERSION:2.0
PRODID:-//Beaumont Events - ECPv6.15.20//NONSGML v1.0//EN
CALSCALE:GREGORIAN
METHOD:PUBLISH
X-WR-CALNAME:Beaumont Events
X-ORIGINAL-URL:https://beaumonteventstx.com
X-WR-CALDESC:Events for Beaumont Events
REFRESH-INTERVAL;VALUE=DURATION:PT1H
X-Robots-Tag:noindex
X-PUBLISHED-TTL:PT1H
BEGIN:VTIMEZONE
TZID:America/Chicago
BEGIN:DAYLIGHT
TZOFFSETFROM:-0600
TZOFFSETTO:-0500
TZNAME:CDT
DTSTART:20220313T080000
END:DAYLIGHT
BEGIN:STANDARD
TZOFFSETFROM:-0500
TZOFFSETTO:-0600
TZNAME:CST
DTSTART:20221106T070000
END:STANDARD
BEGIN:DAYLIGHT
TZOFFSETFROM:-0600
TZOFFSETTO:-0500
TZNAME:CDT
DTSTART:20230312T080000
END:DAYLIGHT
BEGIN:STANDARD
TZOFFSETFROM:-0500
TZOFFSETTO:-0600
TZNAME:CST
DTSTART:20231105T070000
END:STANDARD
BEGIN:DAYLIGHT
TZOFFSETFROM:-0600
TZOFFSETTO:-0500
TZNAME:CDT
DTSTART:20240310T080000
END:DAYLIGHT
BEGIN:STANDARD
TZOFFSETFROM:-0500
TZOFFSETTO:-0600
TZNAME:CST
DTSTART:20241103T070000
END:STANDARD
END:VTIMEZONE
BEGIN:VEVENT
DTSTART;TZID=America/Chicago:20230621T180000
DTEND;TZID=America/Chicago:20230621T200000
DTSTAMP:20260421T033906
CREATED:20230227T210926Z
LAST-MODIFIED:20230517T154401Z
UID:15340-1687370400-1687377600@beaumonteventstx.com
SUMMARY:Sundown Concert Series - NuSoul & Blacque Koffee
DESCRIPTION:The Sundown Concert Series returns to the Downtown Event Centre Lake monthly from April to June for live music and fun for all. Families are encouraged to picnic around the lake\, enjoy the playground\, visit the resident ducks and enjoy live music as the sun sets on our great city.   \n\n\n This event\, now in its third year\, takes place outdoors and is free and open to the public. Food trucks will be on site with items for sale. \nEvent will feature: \n\nBeer samples from Buckstin Brewing\nFood available for purchase from Cracklin Kings\nTreats available for purchase from Mabels Snowcones and Mexican Treats
URL:https://beaumonteventstx.com/event/sundown-concert-series-june-2023/
LOCATION:Lake at Downtown Event Centre\, 700 Crockett St\, Beaumont\, TX\, 77701
CATEGORIES:Featured,Music
ATTACH;FMTTYPE=image/jpeg:https://beaumonteventstx.com/wp-content/uploads/2023/02/generic_1920x1080_nodate.jpg
END:VEVENT
END:VCALENDAR