BEGIN:VCALENDAR
VERSION:2.0
PRODID:-//Beaumont Events - ECPv6.15.20//NONSGML v1.0//EN
CALSCALE:GREGORIAN
METHOD:PUBLISH
X-WR-CALNAME:Beaumont Events
X-ORIGINAL-URL:https://beaumonteventstx.com
X-WR-CALDESC:Events for Beaumont Events
REFRESH-INTERVAL;VALUE=DURATION:PT1H
X-Robots-Tag:noindex
X-PUBLISHED-TTL:PT1H
BEGIN:VTIMEZONE
TZID:America/Chicago
BEGIN:DAYLIGHT
TZOFFSETFROM:-0600
TZOFFSETTO:-0500
TZNAME:CDT
DTSTART:20240310T080000
END:DAYLIGHT
BEGIN:STANDARD
TZOFFSETFROM:-0500
TZOFFSETTO:-0600
TZNAME:CST
DTSTART:20241103T070000
END:STANDARD
BEGIN:DAYLIGHT
TZOFFSETFROM:-0600
TZOFFSETTO:-0500
TZNAME:CDT
DTSTART:20250309T080000
END:DAYLIGHT
BEGIN:STANDARD
TZOFFSETFROM:-0500
TZOFFSETTO:-0600
TZNAME:CST
DTSTART:20251102T070000
END:STANDARD
BEGIN:DAYLIGHT
TZOFFSETFROM:-0600
TZOFFSETTO:-0500
TZNAME:CDT
DTSTART:20260308T080000
END:DAYLIGHT
BEGIN:STANDARD
TZOFFSETFROM:-0500
TZOFFSETTO:-0600
TZNAME:CST
DTSTART:20261101T070000
END:STANDARD
END:VTIMEZONE
BEGIN:VEVENT
DTSTART;TZID=America/Chicago:20251220T140000
DTEND;TZID=America/Chicago:20251220T140000
DTSTAMP:20260425T093740
CREATED:20251028T143533Z
LAST-MODIFIED:20251028T161025Z
UID:16562-1766239200-1766239200@beaumonteventstx.com
SUMMARY:Movie Night - The Polar Express
DESCRIPTION:A Christmas Fairy from Jack and Jill Storybook will be in the Jefferson Theatre lobby from 1:00pm to 2:00pm for photos before the matinee screening. \nDoors 1pm\nFilm 2pm \nTickets can be purchased ahead of time at the Beaumont Civic Center box office or online now at the buy tickets link below. \nIf tickets are still available\, you will be able to purchase them at the door the day of the movie starting at 12:00pm. Seating is general admission. \nConcessions are available for purchase. \nKids under 12 $4\nAdults $6 \nAbout the film:\nOn Christmas Eve\, a young boy embarks on a magical adventure to the North Pole on the Polar Express\, while learning about friendship\, bravery\, and the spirit of Christmas.\n– Courtesy of IMDb \nClassic Movie Nights are supported by ExxonMobil. \nThird-Party Tickets \nThe Beaumont Civic Center Box Office and Ticketmaster are the only authorized ticketing agents. \nIf you purchase tickets from an unauthorized agent in the secondary market (scalper\, ticket broker\, etc) you risk purchasing counterfeit or invalid tickets. Please use caution when purchasing tickets not from the Beaumont Civic Center Box Office or any website other than www.ticketmaster.com. Guests who purchase invalid tickets from the re-sale site must contact that vendor for resolution. \nBUY TICKETS!
URL:https://beaumonteventstx.com/event/movie-night-the-polar-express-4/
LOCATION:Jefferson Theatre\, 345 Fannin\, Beaumont\, TX\, 77701
CATEGORIES:Featured,Movies
ATTACH;FMTTYPE=image/jpeg:https://beaumonteventstx.com/wp-content/uploads/2025/10/polar-express.jpeg
END:VEVENT
END:VCALENDAR