BEGIN:VCALENDAR
VERSION:2.0
PRODID:-//Beaumont Events - ECPv6.15.20//NONSGML v1.0//EN
CALSCALE:GREGORIAN
METHOD:PUBLISH
X-ORIGINAL-URL:https://beaumonteventstx.com
X-WR-CALDESC:Events for Beaumont Events
REFRESH-INTERVAL;VALUE=DURATION:PT1H
X-Robots-Tag:noindex
X-PUBLISHED-TTL:PT1H
BEGIN:VTIMEZONE
TZID:America/Chicago
BEGIN:DAYLIGHT
TZOFFSETFROM:-0600
TZOFFSETTO:-0500
TZNAME:CDT
DTSTART:20220313T080000
END:DAYLIGHT
BEGIN:STANDARD
TZOFFSETFROM:-0500
TZOFFSETTO:-0600
TZNAME:CST
DTSTART:20221106T070000
END:STANDARD
BEGIN:DAYLIGHT
TZOFFSETFROM:-0600
TZOFFSETTO:-0500
TZNAME:CDT
DTSTART:20230312T080000
END:DAYLIGHT
BEGIN:STANDARD
TZOFFSETFROM:-0500
TZOFFSETTO:-0600
TZNAME:CST
DTSTART:20231105T070000
END:STANDARD
BEGIN:DAYLIGHT
TZOFFSETFROM:-0600
TZOFFSETTO:-0500
TZNAME:CDT
DTSTART:20240310T080000
END:DAYLIGHT
BEGIN:STANDARD
TZOFFSETFROM:-0500
TZOFFSETTO:-0600
TZNAME:CST
DTSTART:20241103T070000
END:STANDARD
END:VTIMEZONE
BEGIN:VEVENT
DTSTART;TZID=America/Chicago:20230617T150000
DTEND;TZID=America/Chicago:20230617T200000
DTSTAMP:20260422T083945
CREATED:20230301T150049Z
LAST-MODIFIED:20230615T170017Z
UID:15356-1687014000-1687032000@beaumonteventstx.com
SUMMARY:City of Beaumont Juneteenth Celebration
DESCRIPTION:The City of Beaumont is proud to announce its annual Juneteenth Celebration\, taking place on Saturday\, June 17\, 2023\, from 3:00 p.m. – 8:00 p.m in Downtown Beaumont. This event promises to be an exciting day of entertainment\, culture and community engagement\, as we come together to celebrate the history and significance of Juneteenth.   \nThis annual event\, which took place at Tyrrell Park for many years\, has always been a highlight of the Summer in Beaumont. This year’s event promises to be a truly unforgettable experience with the captivating performances of R&B legends Shirley Murdock and Lenny Williams.   \nShirley Murdock\, renowned for her soulful vocals and chart-topping hits\, will grace the stage with her mesmerizing presence. Known for songs like “As We Lay” and “Husband\,” Murdock’s powerful voice and heartfelt performances have made her a beloved icon in the music industry.  \nAlso gracing the stage is the incomparable Lenny Williams\, an R&B sensation with an illustrious career spanning over four decades. Williams’ soul-stirring ballads\, including the timeless hit “Cause I Love You\,” have garnered him a loyal fan base and established him as one of the most influential voices in the genre.  \nThe event will also feature live music from some of the best regional musicians such as Nebu Nezey and the Treblemakers\, Far Cry\, the Golden Triangle All Star Band\, and hosted by DJ Erik Tee of Magic 102.5\, as well as the SETX Line Steppers and other entertainment! Food trucks will be on site\, serving up delicious cuisine to satisfy everyone’s taste buds. A new attraction will be the 12 and under Free Throw Competition with prizes for the winners. Registration for the competition will take place at the event.  \nGuests are encouraged to bring chairs and picnic blankets to relax between the Julie Rogers Theatre and the Main Library. Tents\, canopies\, and pets will not be permitted. Barbeque pits and other cooking equipment are not allowed in the event grounds unless the individual is an approved and pre-permitted vendor. All vendors and booths must be pre-registered to participate in the event.  \nAdmission is free and open to the public\, and we encourage everyone to bring their friends and family!  \nThe City of Beaumont extends its gratitude to ExxonMobil\, Giglio Distributing\, LifeShare Blood Center\, and Eastex Urgent Care for their generous support as the event’s sponsor and appreciates their continued commitment to the community.  \nPARKING AND DIRECTIONS \nAs a reminder\, the 200 block of College Street will be completely closed to all traffic traveling east and west bound. If traveling eastbound on College Street\, please use the Orleans to Forsythe detour to access the event. Free parking will be available at the Beaumont Civic Center along with street parking throughout downtown. Designated accessible drop off zone at Forsythe and Main. Additional accessible parking at the Orleans and College entrance.   \n  \nEVENT SCHEDULE *subject to change \n\n\n\n3:00pm – 3:20pm  \nGolden Triangle All-Start Band  \n\n\n3:00pm – 4:15pm  \nFree Throw Registration\n\n\n3:20pm – 4:20pm  \nFar Cry\n\n\n4:30pm – 5:00pm  \nFree Throw Contest  \n\n\n5:00pm – 5:20pm  \nLine-Steppers \n\n\n5:20pm – 6:00pm  \nNebu and the Treblemakers \n\n\n6:00pm – 6:20pm  \nDJ \n\n\n6:20pm – 7:00pm  \nShirley Murdock \n\n\n7:00pm – 7:15pm  \nDJ \n\n\n7:15pm – 7:55pm \nLenny Williams 
URL:https://beaumonteventstx.com/event/juneteenth2023/
LOCATION:Downtown Beaumont\, 701 Main Street\, Beaumont\, 77701
CATEGORIES:Featured,Festivals,Juneteenth Week 2023,Music
ATTACH;FMTTYPE=image/jpeg:https://beaumonteventstx.com/wp-content/uploads/2023/03/1920x1080_generic_juneteenth.jpg
END:VEVENT
END:VCALENDAR