BEGIN:VCALENDAR
VERSION:2.0
PRODID:-//Beaumont Events - ECPv6.15.20//NONSGML v1.0//EN
CALSCALE:GREGORIAN
METHOD:PUBLISH
X-WR-CALNAME:Beaumont Events
X-ORIGINAL-URL:https://beaumonteventstx.com
X-WR-CALDESC:Events for Beaumont Events
REFRESH-INTERVAL;VALUE=DURATION:PT1H
X-Robots-Tag:noindex
X-PUBLISHED-TTL:PT1H
BEGIN:VTIMEZONE
TZID:America/Chicago
BEGIN:DAYLIGHT
TZOFFSETFROM:-0600
TZOFFSETTO:-0500
TZNAME:CDT
DTSTART:20250309T080000
END:DAYLIGHT
BEGIN:STANDARD
TZOFFSETFROM:-0500
TZOFFSETTO:-0600
TZNAME:CST
DTSTART:20251102T070000
END:STANDARD
BEGIN:DAYLIGHT
TZOFFSETFROM:-0600
TZOFFSETTO:-0500
TZNAME:CDT
DTSTART:20260308T080000
END:DAYLIGHT
BEGIN:STANDARD
TZOFFSETFROM:-0500
TZOFFSETTO:-0600
TZNAME:CST
DTSTART:20261101T070000
END:STANDARD
BEGIN:DAYLIGHT
TZOFFSETFROM:-0600
TZOFFSETTO:-0500
TZNAME:CDT
DTSTART:20270314T080000
END:DAYLIGHT
BEGIN:STANDARD
TZOFFSETFROM:-0500
TZOFFSETTO:-0600
TZNAME:CST
DTSTART:20271107T070000
END:STANDARD
END:VTIMEZONE
BEGIN:VEVENT
DTSTART;TZID=America/Chicago:20260110T180000
DTEND;TZID=America/Chicago:20260110T180000
DTSTAMP:20260423T105950
CREATED:20250909T140011Z
LAST-MODIFIED:20251212T205252Z
UID:16513-1768068000-1768068000@beaumonteventstx.com
SUMMARY:4th Annual SETX WhiskeyFest
DESCRIPTION:The fourth annual SETX WhiskeyFest returns on Saturday\, January 10\, 2026\, at the Beaumont Civic Center\, bringing together whiskey enthusiasts and master distillers of fine spirits from across the country.\n\nTickets go on sale September 9\, 2025\, at 10:00 a.m. and can be purchased at Ticketmaster.com or the Beaumont Civic Center box office.\n\nDisclaimer: 21+ event. Valid photo ID required at check-in.\n\nVIP – $199\n\n\nOne-hour early entry at 5 p.m. for exclusive tastings of select premium pours\nTastings of 400+ bottles of premium whiskey and bourbon\nGourmet bites served throughout the festival\nSwag bag and tasting glass\n\n\nGeneral Admission – $99\n\nEntry at 6 p.m.\nTastings of 400+ bottles of premium whiskey and bourbon\nGourmet bites served throughout the festival\nSwag bag and tasting glass\n\nDesignated Driver – $79\n\nEntry at 6 p.m.\nIncludes all GA amenities excluding alcohol tastings\n\nThird-Party Tickets \nThe Beaumont Civic Center Box Office and Ticketmaster are the only authorized ticketing agents. \nIf you purchase tickets from an unauthorized agent in the secondary market (scalper\, ticket broker\, etc) you risk purchasing counterfeit or invalid tickets. Please use caution when purchasing tickets not from the Beaumont Civic Center Box Office or any website other than www.ticketmaster.com. Guests who purchase invalid tickets from the re-sale site must contact that vendor for resolution. \nBUY TICKETS!
URL:https://beaumonteventstx.com/event/4th-annual-setx-whiskeyfest/
LOCATION:Beaumont Civic Center\, 701 Main Street\, Beaumont\, TX\, 77701
CATEGORIES:Featured,Festivals
ATTACH;FMTTYPE=image/png:https://beaumonteventstx.com/wp-content/uploads/2025/09/SETX-WHISKEYFEST_BANNER_1920x1080.png
END:VEVENT
END:VCALENDAR