BEGIN:VCALENDAR
VERSION:2.0
PRODID:-//Beaumont Events - ECPv6.15.20//NONSGML v1.0//EN
CALSCALE:GREGORIAN
METHOD:PUBLISH
X-WR-CALNAME:Beaumont Events
X-ORIGINAL-URL:https://beaumonteventstx.com
X-WR-CALDESC:Events for Beaumont Events
REFRESH-INTERVAL;VALUE=DURATION:PT1H
X-Robots-Tag:noindex
X-PUBLISHED-TTL:PT1H
BEGIN:VTIMEZONE
TZID:America/Chicago
BEGIN:DAYLIGHT
TZOFFSETFROM:-0600
TZOFFSETTO:-0500
TZNAME:CDT
DTSTART:20200308T080000
END:DAYLIGHT
BEGIN:STANDARD
TZOFFSETFROM:-0500
TZOFFSETTO:-0600
TZNAME:CST
DTSTART:20201101T070000
END:STANDARD
BEGIN:DAYLIGHT
TZOFFSETFROM:-0600
TZOFFSETTO:-0500
TZNAME:CDT
DTSTART:20210314T080000
END:DAYLIGHT
BEGIN:STANDARD
TZOFFSETFROM:-0500
TZOFFSETTO:-0600
TZNAME:CST
DTSTART:20211107T070000
END:STANDARD
BEGIN:DAYLIGHT
TZOFFSETFROM:-0600
TZOFFSETTO:-0500
TZNAME:CDT
DTSTART:20220313T080000
END:DAYLIGHT
BEGIN:STANDARD
TZOFFSETFROM:-0500
TZOFFSETTO:-0600
TZNAME:CST
DTSTART:20221106T070000
END:STANDARD
END:VTIMEZONE
BEGIN:VEVENT
DTSTART;TZID=America/Chicago:20210609T190000
DTEND;TZID=America/Chicago:20210609T190000
DTSTAMP:20260424T181018
CREATED:20210513T181438Z
LAST-MODIFIED:20210608T192140Z
UID:14449-1623265200-1623265200@beaumonteventstx.com
SUMMARY:Sundown Summer Concert Series
DESCRIPTION:Sundown Summer Concert Series featuring The Red Clay Strays and opener Cody Schaeffer \nWednesday\, June 9\, 2021\nEvent Centre Lake \n6pm – 8pm \nThis free outdoor summer concert series is the live music escape residents have been yearning for over the last year. Families are encouraged to picnic around the lake\, enjoy the playground\, visit the resident ducks and enjoy live music as the sun sets on our great city. Locally owned food trucks will be on-site and concert-goers can bring coolers\, but no outside alcohol is allowed. \nThe Red Clay Strays are a country band from south Alabama with a sound as genuine as the dirt roads they grew up on. Their sound\, with influences ranging from Johnny Cash\, Lynyrd Skynyrd\, Waylon Jennings\, Marshall Tucker\, and Country Gospel among others\, blurs the lines between Country and Southern Rock and brings an authenticity that is unique to the Red Clay Strays.
URL:https://beaumonteventstx.com/event/sundown-summer-concert-series/
LOCATION:Lake at Downtown Event Centre\, 700 Crockett St\, Beaumont\, TX\, 77701
CATEGORIES:Featured,Festivals,Music
ATTACH;FMTTYPE=image/jpeg:https://beaumonteventstx.com/wp-content/uploads/2021/05/SSCS_webthumb.jpg
END:VEVENT
END:VCALENDAR