BEGIN:VCALENDAR
VERSION:2.0
PRODID:-//Beaumont Events - ECPv6.15.20//NONSGML v1.0//EN
CALSCALE:GREGORIAN
METHOD:PUBLISH
X-ORIGINAL-URL:https://beaumonteventstx.com
X-WR-CALDESC:Events for Beaumont Events
REFRESH-INTERVAL;VALUE=DURATION:PT1H
X-Robots-Tag:noindex
X-PUBLISHED-TTL:PT1H
BEGIN:VTIMEZONE
TZID:America/Chicago
BEGIN:DAYLIGHT
TZOFFSETFROM:-0600
TZOFFSETTO:-0500
TZNAME:CDT
DTSTART:20250309T080000
END:DAYLIGHT
BEGIN:STANDARD
TZOFFSETFROM:-0500
TZOFFSETTO:-0600
TZNAME:CST
DTSTART:20251102T070000
END:STANDARD
BEGIN:DAYLIGHT
TZOFFSETFROM:-0600
TZOFFSETTO:-0500
TZNAME:CDT
DTSTART:20260308T080000
END:DAYLIGHT
BEGIN:STANDARD
TZOFFSETFROM:-0500
TZOFFSETTO:-0600
TZNAME:CST
DTSTART:20261101T070000
END:STANDARD
BEGIN:DAYLIGHT
TZOFFSETFROM:-0600
TZOFFSETTO:-0500
TZNAME:CDT
DTSTART:20270314T080000
END:DAYLIGHT
BEGIN:STANDARD
TZOFFSETFROM:-0500
TZOFFSETTO:-0600
TZNAME:CST
DTSTART:20271107T070000
END:STANDARD
END:VTIMEZONE
BEGIN:VEVENT
DTSTART;TZID=America/Chicago:20260614T150000
DTEND;TZID=America/Chicago:20260614T150000
DTSTAMP:20260420T050428
CREATED:20260414T143542Z
LAST-MODIFIED:20260414T143542Z
UID:16800-1781449200-1781449200@beaumonteventstx.com
SUMMARY:The Big Bang Boom: Dance Showcase
DESCRIPTION:Doors 2pm\nEvent 3pm \nThe Big Bang Boom Dance Showcase will feature some of the hottest dance teams in our area! This is your opportunity to witness your favorite teams perform their standout pieces from the season. \nAt the end of the show\, attendees will also have the chance to connect with participating teams. You can visit each team’s table to learn more about their programs and how to get involved. \nKeep your kids engaged\, active\, and inspired while doing something they love while also building skills they can carry with them for a lifetime.\n \nTickets: $10\nGeneral Admission seating \nBUY TICKETS!\n\nThird-Party Tickets \nThe Beaumont Civic Center Box Office and Ticketmaster are the only authorized ticketing agents. \nIf you purchase tickets from an unauthorized agent in the secondary market (scalper\, ticket broker\, etc) you risk purchasing counterfeit or invalid tickets. Please use caution when purchasing tickets not from the Beaumont Civic Center Box Office or any website other than www.ticketmaster.com. Guests who purchase invalid tickets from the re-sale site must contact that vendor for resolution.
URL:https://beaumonteventstx.com/event/the-big-bang-boom-dance-showcase/
LOCATION:Jefferson Theatre\, 345 Fannin\, Beaumont\, TX\, 77701
CATEGORIES:Dance,Featured
ATTACH;FMTTYPE=image/png:https://beaumonteventstx.com/wp-content/uploads/2026/04/Big-Bang-Boom-1920x1080-2.png
END:VEVENT
BEGIN:VEVENT
DTSTART;TZID=America/Chicago:20260620T160000
DTEND;TZID=America/Chicago:20260620T210000
DTSTAMP:20260420T050428
CREATED:20251212T163206Z
LAST-MODIFIED:20260413T210025Z
UID:16642-1781971200-1781989200@beaumonteventstx.com
SUMMARY:City of Beaumont Juneteenth Celebration 2026
DESCRIPTION:The City of Beaumont Juneteenth Celebration returns to downtown Beaumont on Saturday\, June 20 from 4:00pm to 9:00pm\, bringing the community together for an evening of live entertainment\, cultural performances\, and meaningful celebration honoring the history and significance of Juneteenth. This year’s event will be held inside the Beaumont Civic Center\, providing a comfortable\, air-conditioned setting so guests can enjoy the festivities while escaping the heat of the summer.\n\nHeadlining the entertainment lineup is the legendary Zapp Band\, known for their iconic funk sound and classic hits such as “More Bounce to the Ounce” and “Computer Love”. Their high-energy performance and unmistakable talk-box style are sure to keep the crowd dancing all night long.\nThe celebration will also feature performances by Brian Jack and the Zydeco Gamblers\, NuSoul & Blacque Koffee\, and the SETX Linesteppers\, adding even more rhythm and excitement to the evening. Keeping the energy going throughout the night\, Erik Tee from Magic 102.5 will host the festivities while spinning dynamic beats and creating a lively atmosphere.\nFamilies can enjoy the H-E-B Kids Zone\, a dedicated area filled with fun and interactive activities for younger guests. The space will feature games\, face painting\, hands-on crafts\, and a variety of engaging activities designed to keep kids entertained throughout the event.\nAttendees can grab a bite from a variety of food\, providing plenty of options for every craving.\n\nTents\, chairs\, coolers\, canopies\, and pets will not be permitted inside the venue. Barbeque pits and other cooking equipment are not allowed unless the individual is an approved and pre-permitted vendor. All vendors and booths must be pre-registered to participate in the event.\n\nAdmission is free and open to the public\, and we encourage everyone to bring their friends and family!\n\nThe City of Beaumont extends its gratitude to ExxonMobil as the event’s signature sponsor\, along with Del Papa Distributing (Stage Sponsor)\, H-E-B (Kids Zone Sponsor)\, and Giglio Distributing (Partner Sponsor) for their generous support and continued commitment to the community.\nNonprofit booth applications are open now and close May 4\, 2026\, at 3:00 p.m.\, or until spaces sell out. Apply at: https://beaumonteventstx.com/boothvendors/\nMerchandise vendors are not accepted. Commercial businesses can contact events@beaumonttexas.gov for sponsorship opportunities.
URL:https://beaumonteventstx.com/event/juneteenth2026/
LOCATION:Beaumont Civic Center\, 701 Main Street\, Beaumont\, TX\, 77701
CATEGORIES:Featured
ATTACH;FMTTYPE=image/jpeg:https://beaumonteventstx.com/wp-content/uploads/2025/01/1920x1080_generic_juneteenth-1.jpg
END:VEVENT
END:VCALENDAR