BEGIN:VCALENDAR
VERSION:2.0
PRODID:-//Beaumont Events - ECPv6.15.20//NONSGML v1.0//EN
CALSCALE:GREGORIAN
METHOD:PUBLISH
X-WR-CALNAME:Beaumont Events
X-ORIGINAL-URL:https://beaumonteventstx.com
X-WR-CALDESC:Events for Beaumont Events
REFRESH-INTERVAL;VALUE=DURATION:PT1H
X-Robots-Tag:noindex
X-PUBLISHED-TTL:PT1H
BEGIN:VTIMEZONE
TZID:America/Chicago
BEGIN:DAYLIGHT
TZOFFSETFROM:-0600
TZOFFSETTO:-0500
TZNAME:CDT
DTSTART:20250309T080000
END:DAYLIGHT
BEGIN:STANDARD
TZOFFSETFROM:-0500
TZOFFSETTO:-0600
TZNAME:CST
DTSTART:20251102T070000
END:STANDARD
BEGIN:DAYLIGHT
TZOFFSETFROM:-0600
TZOFFSETTO:-0500
TZNAME:CDT
DTSTART:20260308T080000
END:DAYLIGHT
BEGIN:STANDARD
TZOFFSETFROM:-0500
TZOFFSETTO:-0600
TZNAME:CST
DTSTART:20261101T070000
END:STANDARD
BEGIN:DAYLIGHT
TZOFFSETFROM:-0600
TZOFFSETTO:-0500
TZNAME:CDT
DTSTART:20270314T080000
END:DAYLIGHT
BEGIN:STANDARD
TZOFFSETFROM:-0500
TZOFFSETTO:-0600
TZNAME:CST
DTSTART:20271107T070000
END:STANDARD
END:VTIMEZONE
BEGIN:VEVENT
DTSTART;TZID=America/Chicago:20260503T130000
DTEND;TZID=America/Chicago:20260503T160000
DTSTAMP:20260422T032211
CREATED:20260410T175209Z
LAST-MODIFIED:20260414T161725Z
UID:16801-1777813200-1777824000@beaumonteventstx.com
SUMMARY:Riverfront Rhythms
DESCRIPTION:The City of Beaumont invites the community to a relaxing and musical afternoon at Riverfront Rhythms in downtown Riverfront Park. Join us Sunday\, May 3\, from 1:00 PM to 4:00 PM for free live music along the scenic Neches River. \nRiverfront Rhythms is a family-friendly event that brings the community together to celebrate music\, nature\, and the vibrant atmosphere of Downtown Beaumont. Guests are invited to relax by the river\, take in the scenery\, and enjoy an afternoon filled with live music from talented local musicians. \nAttendees are encouraged to bring a picnic and settle in along the riverfront while soaking in the sights and sounds of the day. An ice cream truck will also be on site with sweet treats available for purchase\, adding the perfect finishing touch to a laid-back afternoon outdoors. \nEvent Highlights: \n\n\nFree live music from 5 unique artists\nIce cream truck with items for sale\nBYO picnic\, lawn chairs\, and blankets welcome\nDrink samples from Giglio Distributing\nScenic views of the Neches River\n\n\n\nEntertainment Schedule \n\n\n1:00 pm – Fletcher Inzer\n1:35 pm – Stepford Rising\n2:10 pm – Juliet Goldstein\n2:45 pm – Greg Jr.\n3:20 pm – Ariel Bush\n\n\nThe City of Beaumont extends its gratitude to the event sponsors: Giglio Distributing (Summer Series Sponsor) and Foster Sound Company (Sound Sponsor).
URL:https://beaumonteventstx.com/event/riverfront-rhythms/
LOCATION:Riverfront Park\, 701 Main Street\, Beaumont\, TX\, 77701
CATEGORIES:Featured,Music
ATTACH;FMTTYPE=image/jpeg:https://beaumonteventstx.com/wp-content/uploads/2026/04/RR26_1920x1080-copy.jpg
END:VEVENT
BEGIN:VEVENT
DTSTART;TZID=America/Chicago:20260508T190000
DTEND;TZID=America/Chicago:20260508T190000
DTSTAMP:20260422T032211
CREATED:20260310T145139Z
LAST-MODIFIED:20260310T145139Z
UID:16706-1778266800-1778266800@beaumonteventstx.com
SUMMARY:Movie Night - Night at the Museum
DESCRIPTION:Doors 6pm\nFilm 7pm \nTickets can be purchased ahead of time at the Beaumont Civic Center box office or online now at the buy tickets link below. \nIf tickets are still available\, you will be able to purchase them at the door the day of the movie starting at 5:00pm. Seating is general admission. \nConcessions are available for purchase. \nKids under 12 $4\nAdults $6 \nAbout the film:\nA newly recruited night security guard at the Museum of Natural History discovers that an ancient curse causes the animals and exhibits on display to come to life and wreak havoc.\n– Courtesy of IMDb \nClassic Movie Nights are supported by ExxonMobil. \nThird-Party Tickets \nThe Beaumont Civic Center Box Office and Ticketmaster are the only authorized ticketing agents. \nIf you purchase tickets from an unauthorized agent in the secondary market (scalper\, ticket broker\, etc) you risk purchasing counterfeit or invalid tickets. Please use caution when purchasing tickets not from the Beaumont Civic Center Box Office or any website other than www.ticketmaster.com. Guests who purchase invalid tickets from the re-sale site must contact that vendor for resolution. \nBUY TICKETS!
URL:https://beaumonteventstx.com/event/movie-night-night-at-the-museum/
LOCATION:Jefferson Theatre\, 345 Fannin\, Beaumont\, TX\, 77701
CATEGORIES:Featured,Movies
ATTACH;FMTTYPE=image/jpeg:https://beaumonteventstx.com/wp-content/uploads/2026/02/Museum.jpg
END:VEVENT
BEGIN:VEVENT
DTSTART;TZID=America/Chicago:20260509T190000
DTEND;TZID=America/Chicago:20260509T190000
DTSTAMP:20260422T032211
CREATED:20260120T160026Z
LAST-MODIFIED:20260417T152717Z
UID:16673-1778353200-1778353200@beaumonteventstx.com
SUMMARY:Ali Siddiq: Custom Fit - 7 PM Show (SOLD OUT)
DESCRIPTION:7:00 PM = SOLD OUT\n 10:00 PM = JUST ADDED\n\nAli Siddiq will take the stage at the Jefferson Theatre on Saturday\, May 9\, 2026 at 7:00pm. Doors open at 6:00pm.\nSuggested 16+ \n\n\nBio:  Crowned by Vulture as “stand-up comedy’s most prolific storyteller\,” Ali Siddiq has built a dedicated massive fanbase clamoring to attend his live shows and watch his masterful independently produced and released specials.  He premiered his four-part stand-up series The Domino Effect 1-4 in 2022-2024 which has amassed over 47 million views. The storytelling saga cemented Ali’s reputation as a master craftsman of narrative comedy. Each chapter became a cultural event\, landing Ali among the top-viewed comedians on YouTube year after year. \nAlso during that time\, Ali released the special Don’t Judge A Book By Its Cover (2023) which has amassed 6 million views. In 2025 alone he released 3 more hour standup specials\, My Two Sons (12M+ views)\, Rugged (7M+ views) and Mondays (3M+ views).  Deadline included Ali in their list of “Comics Who Won 2025” and My Two Sons earned Siddiq a 2026 NAACP Nomination for “Outstanding Variety Series or Special.” He will be releasing 3 more new hour specials in 2026 that have already been filmed. An emerging comedy mogul\, Ali also executive-produces and distributes multiple specials for other comedians including Malik S. and Ryan Davis\, with a 2nd special from Marcus D. Wiley coming up on February 1. \nFrom Houston\, TX\, Ali developed his unmistakable voice in one of the most unlikely places — behind the walls of incarceration\, where storytelling was survival\, currency\, and community. Comedy Central would later sent him back inside a Texas jail to film It’s Bigger Than These Bars (4M+ views). Today\, that same voice has made him one of the most watched\, respected\, and consistently viral comedians in the world. \n*Yondr Fan Advisory\nThis event will be a phone-free experience. Use of cellphones\, smart watches\, smart accessories\, cameras\, or recording devices will not be permitted in the performance space. \nUpon arrival at the venue\, all phones\, smart watches\, and accessories will be secured in Yondr pouches that will be opened at the end of the event. Guests maintain possession of their belongings at all times and can access their phones throughout the event at designated Phone Use Areas in the venue. All phones will be re-secured in Yondr pouches before returning to the event space. \nAnyone seen using a non-permitted device during the performance will be escorted out of the venue. Guests are encouraged to bring a credit card for purchases inside the venue. We appreciate your cooperation in creating a phone-free viewing experience. \n\n\n \nBUY TICKETS!\n*Make sure to select the correct time on Ticketmaster listing
URL:https://beaumonteventstx.com/event/ali-siddiq-custom-fit/
LOCATION:Jefferson Theatre\, 345 Fannin\, Beaumont\, TX\, 77701
CATEGORIES:Comedy,Featured
ATTACH;FMTTYPE=image/jpeg:https://beaumonteventstx.com/wp-content/uploads/2026/01/Ali_CustomFit_Admat_1920x1080_BeaumontTX.jpg
END:VEVENT
BEGIN:VEVENT
DTSTART;TZID=America/Chicago:20260509T220000
DTEND;TZID=America/Chicago:20260509T220000
DTSTAMP:20260422T032211
CREATED:20260417T152739Z
LAST-MODIFIED:20260417T152739Z
UID:16819-1778364000-1778364000@beaumonteventstx.com
SUMMARY:Ali Siddiq: Custom Fit - 10 PM Show
DESCRIPTION:7:00 PM = SOLD OUT\n 10:00 PM = JUST ADDED \nDue to high demand\, a second show has been added! \nSuggested 16+ \n\nBio:  Crowned by Vulture as “stand-up comedy’s most prolific storyteller\,” Ali Siddiq has built a dedicated massive fanbase clamoring to attend his live shows and watch his masterful independently produced and released specials.  He premiered his four-part stand-up series The Domino Effect 1-4 in 2022-2024 which has amassed over 47 million views. The storytelling saga cemented Ali’s reputation as a master craftsman of narrative comedy. Each chapter became a cultural event\, landing Ali among the top-viewed comedians on YouTube year after year. \n\nAlso during that time\, Ali released the special Don’t Judge A Book By Its Cover (2023) which has amassed 6 million views. In 2025 alone he released 3 more hour standup specials\, My Two Sons (12M+ views)\, Rugged (7M+ views) and Mondays (3M+ views).  Deadline included Ali in their list of “Comics Who Won 2025” and My Two Sons earned Siddiq a 2026 NAACP Nomination for “Outstanding Variety Series or Special.” He will be releasing 3 more new hour specials in 2026 that have already been filmed. An emerging comedy mogul\, Ali also executive-produces and distributes multiple specials for other comedians including Malik S. and Ryan Davis\, with a 2nd special from Marcus D. Wiley coming up on February 1. \nFrom Houston\, TX\, Ali developed his unmistakable voice in one of the most unlikely places — behind the walls of incarceration\, where storytelling was survival\, currency\, and community. Comedy Central would later sent him back inside a Texas jail to film It’s Bigger Than These Bars (4M+ views). Today\, that same voice has made him one of the most watched\, respected\, and consistently viral comedians in the world. \n*Yondr Fan Advisory\nThis event will be a phone-free experience. Use of cellphones\, smart watches\, smart accessories\, cameras\, or recording devices will not be permitted in the performance space. \nUpon arrival at the venue\, all phones\, smart watches\, and accessories will be secured in Yondr pouches that will be opened at the end of the event. Guests maintain possession of their belongings at all times and can access their phones throughout the event at designated Phone Use Areas in the venue. All phones will be re-secured in Yondr pouches before returning to the event space. \nAnyone seen using a non-permitted device during the performance will be escorted out of the venue. Guests are encouraged to bring a credit card for purchases inside the venue. We appreciate your cooperation in creating a phone-free viewing experience. \n\n\n \nBUY TICKETS!\n*Make sure to select the correct time on Ticketmaster listing
URL:https://beaumonteventstx.com/event/ali-siddiq-custom-fit-10-pm-show/
LOCATION:Jefferson Theatre\, 345 Fannin\, Beaumont\, TX\, 77701
CATEGORIES:Comedy,Featured
ATTACH;FMTTYPE=image/jpeg:https://beaumonteventstx.com/wp-content/uploads/2026/01/NewTimeAdd_Ali_CustomFit_Admat_BeaumontTX_1920x1080.jpg
END:VEVENT
BEGIN:VEVENT
DTSTART;TZID=America/Chicago:20260511T180000
DTEND;TZID=America/Chicago:20260511T180000
DTSTAMP:20260422T032211
CREATED:20260420T171545Z
LAST-MODIFIED:20260420T171545Z
UID:16810-1778522400-1778522400@beaumonteventstx.com
SUMMARY:K-POP Warriors
DESCRIPTION:Doors 5pm\nShow 6pm \nKPOP Warriors is a high-energy\, family-friendly live production inspired by K-Pop music\, featuring dynamic dance routines\, and interactive moments designed for kids and families. \nTickets: $41.75 (ages 2 years and older)\nGeneral Admission seating\n \nBUY TICKETS!\n\nThird-Party Tickets \nThe Beaumont Civic Center Box Office and Ticketmaster are the only authorized ticketing agents. \nIf you purchase tickets from an unauthorized agent in the secondary market (scalper\, ticket broker\, etc) you risk purchasing counterfeit or invalid tickets. Please use caution when purchasing tickets not from the Beaumont Civic Center Box Office or any website other than www.ticketmaster.com. Guests who purchase invalid tickets from the re-sale site must contact that vendor for resolution.
URL:https://beaumonteventstx.com/event/k-pop-warriors/
LOCATION:Jefferson Theatre\, 345 Fannin\, Beaumont\, TX\, 77701
CATEGORIES:Featured,Music
ATTACH;FMTTYPE=image/jpeg:https://beaumonteventstx.com/wp-content/uploads/2026/04/P.jpg.jpeg
END:VEVENT
BEGIN:VEVENT
DTSTART;TZID=America/Chicago:20260515T190000
DTEND;TZID=America/Chicago:20260515T190000
DTSTAMP:20260422T032211
CREATED:20260310T145354Z
LAST-MODIFIED:20260310T145354Z
UID:16707-1778871600-1778871600@beaumonteventstx.com
SUMMARY:Movie Night - Dreamgirls
DESCRIPTION:Doors 6pm\nFilm 7pm \nTickets can be purchased ahead of time at the Beaumont Civic Center box office or online now at the buy tickets link below. \nIf tickets are still available\, you will be able to purchase them at the door the day of the movie starting at 5:00pm. Seating is general admission. \nConcessions are available for purchase. \nTickets $6 \nAbout the film:\nA trio of black female soul singers cross over to the pop charts in the early 1960s\, facing their own personal struggles along the way.\n– Courtesy of IMDb \nClassic Movie Nights are supported by ExxonMobil. \nThird-Party Tickets \nThe Beaumont Civic Center Box Office and Ticketmaster are the only authorized ticketing agents. \nIf you purchase tickets from an unauthorized agent in the secondary market (scalper\, ticket broker\, etc) you risk purchasing counterfeit or invalid tickets. Please use caution when purchasing tickets not from the Beaumont Civic Center Box Office or any website other than www.ticketmaster.com. Guests who purchase invalid tickets from the re-sale site must contact that vendor for resolution. \nBUY TICKETS!
URL:https://beaumonteventstx.com/event/movie-night-dreamgirls/
LOCATION:Jefferson Theatre\, 345 Fannin\, Beaumont\, TX\, 77701
CATEGORIES:Featured,Movies
ATTACH;FMTTYPE=image/jpeg:https://beaumonteventstx.com/wp-content/uploads/2026/02/Dreamgirls.jpg
END:VEVENT
BEGIN:VEVENT
DTSTART;TZID=America/Chicago:20260522T190000
DTEND;TZID=America/Chicago:20260522T190000
DTSTAMP:20260422T032211
CREATED:20260310T145437Z
LAST-MODIFIED:20260310T145437Z
UID:16708-1779476400-1779476400@beaumonteventstx.com
SUMMARY:Movie Night - Pirates of the Caribbean: Dead Man's Chest
DESCRIPTION:Doors 6pm\nFilm 7pm \nTickets can be purchased ahead of time at the Beaumont Civic Center box office or online now at the buy tickets link below. \nIf tickets are still available\, you will be able to purchase them at the door the day of the movie starting at 5:00pm. Seating is general admission. \nConcessions are available for purchase. \nTickets $6 \nAbout the film:\nJack Sparrow races to recover the heart of Davy Jones to avoid enslaving his soul to Jones’ service\, as other friends and foes seek the heart for their own agenda as well.\n– Courtesy of IMDb \nClassic Movie Nights are supported by ExxonMobil. \nThird-Party Tickets \nThe Beaumont Civic Center Box Office and Ticketmaster are the only authorized ticketing agents. \nIf you purchase tickets from an unauthorized agent in the secondary market (scalper\, ticket broker\, etc) you risk purchasing counterfeit or invalid tickets. Please use caution when purchasing tickets not from the Beaumont Civic Center Box Office or any website other than www.ticketmaster.com. Guests who purchase invalid tickets from the re-sale site must contact that vendor for resolution. \nBUY TICKETS!
URL:https://beaumonteventstx.com/event/movie-night-pirates-of-the-caribbean-dead-mans-chest/
LOCATION:Jefferson Theatre\, 345 Fannin\, Beaumont\, TX\, 77701
CATEGORIES:Featured,Movies
ATTACH;FMTTYPE=image/jpeg:https://beaumonteventstx.com/wp-content/uploads/2026/02/Pirates.jpg
END:VEVENT
END:VCALENDAR