BEGIN:VCALENDAR
VERSION:2.0
PRODID:-//Beaumont Events - ECPv6.15.20//NONSGML v1.0//EN
CALSCALE:GREGORIAN
METHOD:PUBLISH
X-WR-CALNAME:Beaumont Events
X-ORIGINAL-URL:https://beaumonteventstx.com
X-WR-CALDESC:Events for Beaumont Events
REFRESH-INTERVAL;VALUE=DURATION:PT1H
X-Robots-Tag:noindex
X-PUBLISHED-TTL:PT1H
BEGIN:VTIMEZONE
TZID:America/Chicago
BEGIN:DAYLIGHT
TZOFFSETFROM:-0600
TZOFFSETTO:-0500
TZNAME:CDT
DTSTART:20230312T080000
END:DAYLIGHT
BEGIN:STANDARD
TZOFFSETFROM:-0500
TZOFFSETTO:-0600
TZNAME:CST
DTSTART:20231105T070000
END:STANDARD
BEGIN:DAYLIGHT
TZOFFSETFROM:-0600
TZOFFSETTO:-0500
TZNAME:CDT
DTSTART:20240310T080000
END:DAYLIGHT
BEGIN:STANDARD
TZOFFSETFROM:-0500
TZOFFSETTO:-0600
TZNAME:CST
DTSTART:20241103T070000
END:STANDARD
BEGIN:DAYLIGHT
TZOFFSETFROM:-0600
TZOFFSETTO:-0500
TZNAME:CDT
DTSTART:20250309T080000
END:DAYLIGHT
BEGIN:STANDARD
TZOFFSETFROM:-0500
TZOFFSETTO:-0600
TZNAME:CST
DTSTART:20251102T070000
END:STANDARD
END:VTIMEZONE
BEGIN:VEVENT
DTSTART;TZID=America/Chicago:20240628T190000
DTEND;TZID=America/Chicago:20240628T190000
DTSTAMP:20260423T073206
CREATED:20240430T181424Z
LAST-MODIFIED:20240501T153700Z
UID:15875-1719601200-1719601200@beaumonteventstx.com
SUMMARY:Movie Night - Footloose
DESCRIPTION:Doors 6pm\nFilm 7pm \nJoin us for the 40th anniversary screening of Footloose! \nTickets can be purchased ahead of time at the Beaumont Civic Center box office or online now at the buy tickets link below.\nIf tickets are still available\, you will be able to purchase them at the door the day of the movie starting at 5:00pm. Seating is general admission. \nConcessions are available for purchase. \nKids under 12 $4\nAdults $6 \nAbout the film: \nA city teenager moves to a small town where rock music and dancing have been banned\, and his rebellious spirit shakes up the populace. \n-Courtesy of IMDB \nClassic Movie Nights are presented by ExxonMobil.
URL:https://beaumonteventstx.com/event/footloose/
LOCATION:Jefferson Theatre\, 345 Fannin\, Beaumont\, TX\, 77701
CATEGORIES:Featured,Movies
ATTACH;FMTTYPE=image/webp:https://beaumonteventstx.com/wp-content/uploads/2024/04/Footloose-Header.webp
END:VEVENT
END:VCALENDAR