BEGIN:VCALENDAR
VERSION:2.0
PRODID:-//Beaumont Events - ECPv6.15.20//NONSGML v1.0//EN
CALSCALE:GREGORIAN
METHOD:PUBLISH
X-ORIGINAL-URL:https://beaumonteventstx.com
X-WR-CALDESC:Events for Beaumont Events
REFRESH-INTERVAL;VALUE=DURATION:PT1H
X-Robots-Tag:noindex
X-PUBLISHED-TTL:PT1H
BEGIN:VTIMEZONE
TZID:America/Chicago
BEGIN:DAYLIGHT
TZOFFSETFROM:-0600
TZOFFSETTO:-0500
TZNAME:CDT
DTSTART:20220313T080000
END:DAYLIGHT
BEGIN:STANDARD
TZOFFSETFROM:-0500
TZOFFSETTO:-0600
TZNAME:CST
DTSTART:20221106T070000
END:STANDARD
BEGIN:DAYLIGHT
TZOFFSETFROM:-0600
TZOFFSETTO:-0500
TZNAME:CDT
DTSTART:20230312T080000
END:DAYLIGHT
BEGIN:STANDARD
TZOFFSETFROM:-0500
TZOFFSETTO:-0600
TZNAME:CST
DTSTART:20231105T070000
END:STANDARD
BEGIN:DAYLIGHT
TZOFFSETFROM:-0600
TZOFFSETTO:-0500
TZNAME:CDT
DTSTART:20240310T080000
END:DAYLIGHT
BEGIN:STANDARD
TZOFFSETFROM:-0500
TZOFFSETTO:-0600
TZNAME:CST
DTSTART:20241103T070000
END:STANDARD
END:VTIMEZONE
BEGIN:VEVENT
DTSTART;TZID=America/Chicago:20231022T150000
DTEND;TZID=America/Chicago:20231022T150000
DTSTAMP:20260423T035254
CREATED:20230905T213637Z
LAST-MODIFIED:20230907T141642Z
UID:15575-1697986800-1697986800@beaumonteventstx.com
SUMMARY:13 Nights - The Blair Witch Project
DESCRIPTION:Doors 2pm\nFilm 3pm \nTickets can be purchased ahead of time at the Beaumont Civic Center box office or online now at the buy tickets link below.\nIf tickets are still available\, you will be able to purchase them at the door the day of the movie starting at 5:00pm. Seating is general admission. \nTICKETS ON SALE SEPTEMBER 6 AT 10AM \nConcessions are available for purchase. \nRATED R\nAdults $6 \nAbout the film:\nThree film students vanish after traveling into a Maryland forest to film a documentary on the local Blair Witch legend\, leaving only their footage behind. \nClassic Movie Nights are supported by ExxonMobil
URL:https://beaumonteventstx.com/event/13-nights-the-blair-witch-project/
LOCATION:Jefferson Theatre\, 345 Fannin\, Beaumont\, TX\, 77701
CATEGORIES:13 Nights of Halloween,Featured,Movies
ATTACH;FMTTYPE=image/jpeg:https://beaumonteventstx.com/wp-content/uploads/2023/08/theblairwitch.jpg
END:VEVENT
BEGIN:VEVENT
DTSTART;TZID=America/Chicago:20231022T190000
DTEND;TZID=America/Chicago:20231022T190000
DTSTAMP:20260423T035254
CREATED:20230905T213942Z
LAST-MODIFIED:20230907T141656Z
UID:15576-1698001200-1698001200@beaumonteventstx.com
SUMMARY:13 Nights - The Witch
DESCRIPTION:Doors 6pm\nFilm 7pm \nTickets can be purchased ahead of time at the Beaumont Civic Center box office or online now at the buy tickets link below.\nIf tickets are still available\, you will be able to purchase them at the door the day of the movie starting at 5:00pm. Seating is general admission. \nTICKETS ON SALE SEPTEMBER 6 AT 10AM \nConcessions are available for purchase. \nRATED R\nAdults $6 \nAbout the film:\nA family in 1630s New England is torn apart by the forces of witchcraft\, black magic and possession. \nClassic Movie Nights are supported by ExxonMobil
URL:https://beaumonteventstx.com/event/13-nights-the-witch/
LOCATION:Jefferson Theatre\, 345 Fannin\, Beaumont\, TX\, 77701
CATEGORIES:13 Nights of Halloween,Featured,Movies
ATTACH;FMTTYPE=image/png:https://beaumonteventstx.com/wp-content/uploads/2023/08/thewitch.png
END:VEVENT
END:VCALENDAR