BEGIN:VCALENDAR
VERSION:2.0
PRODID:-//Beaumont Events - ECPv6.15.20//NONSGML v1.0//EN
CALSCALE:GREGORIAN
METHOD:PUBLISH
X-WR-CALNAME:Beaumont Events
X-ORIGINAL-URL:https://beaumonteventstx.com
X-WR-CALDESC:Events for Beaumont Events
REFRESH-INTERVAL;VALUE=DURATION:PT1H
X-Robots-Tag:noindex
X-PUBLISHED-TTL:PT1H
BEGIN:VTIMEZONE
TZID:America/Chicago
BEGIN:DAYLIGHT
TZOFFSETFROM:-0600
TZOFFSETTO:-0500
TZNAME:CDT
DTSTART:20220313T080000
END:DAYLIGHT
BEGIN:STANDARD
TZOFFSETFROM:-0500
TZOFFSETTO:-0600
TZNAME:CST
DTSTART:20221106T070000
END:STANDARD
BEGIN:DAYLIGHT
TZOFFSETFROM:-0600
TZOFFSETTO:-0500
TZNAME:CDT
DTSTART:20230312T080000
END:DAYLIGHT
BEGIN:STANDARD
TZOFFSETFROM:-0500
TZOFFSETTO:-0600
TZNAME:CST
DTSTART:20231105T070000
END:STANDARD
BEGIN:DAYLIGHT
TZOFFSETFROM:-0600
TZOFFSETTO:-0500
TZNAME:CDT
DTSTART:20240310T080000
END:DAYLIGHT
BEGIN:STANDARD
TZOFFSETFROM:-0500
TZOFFSETTO:-0600
TZNAME:CST
DTSTART:20241103T070000
END:STANDARD
END:VTIMEZONE
BEGIN:VEVENT
DTSTART;TZID=America/Chicago:20230701T150000
DTEND;TZID=America/Chicago:20230701T150000
DTSTAMP:20260420T070100
CREATED:20230602T185143Z
LAST-MODIFIED:20230602T194330Z
UID:15460-1688223600-1688223600@beaumonteventstx.com
SUMMARY:Movie Night - West Side Story (1961)
DESCRIPTION:Doors 2pm\nMovie 3pm \nTickets can be purchased ahead of time at the Beaumont Civic Center box office or online now at the buy tickets link below. If tickets are still available\, you will be able to purchase them at the door the day of the movie starting at 1:00pm. Seating is general admission. \nConcessions are available for purchase. \nKids 12 and under $4\nAdults $6 \nAbout the film:\nTwo youngsters from rival New York City gangs fall in love\, but tensions between their respective friends build toward tragedy. \nClassic Movie Nights are sponsored by Exxonmobil
URL:https://beaumonteventstx.com/event/movie-night-west-side-story-1961/
LOCATION:Jefferson Theatre\, 345 Fannin\, Beaumont\, TX\, 77701
CATEGORIES:Featured,Movies
ATTACH;FMTTYPE=image/jpeg:https://beaumonteventstx.com/wp-content/uploads/2023/06/x1080-1.jpeg
END:VEVENT
BEGIN:VEVENT
DTSTART;TZID=America/Chicago:20230701T190000
DTEND;TZID=America/Chicago:20230701T190000
DTSTAMP:20260420T070100
CREATED:20230602T185345Z
LAST-MODIFIED:20230602T185345Z
UID:15469-1688238000-1688238000@beaumonteventstx.com
SUMMARY:Movie Night - Goodfellas
DESCRIPTION:Doors 6pm\nMovie 7pm \nTickets can be purchased ahead of time at the Beaumont Civic Center box office or online now at the buy tickets link below. If tickets are still available\, you will be able to purchase them at the door the day of the movie starting at 5:00pm. Seating is general admission. \nConcessions are available for purchase. \nRated R\nAdults $6 \nAbout the film:\nThe story of Henry Hill and his life in the mafia\, covering his relationship with his wife Karen and his mob partners Jimmy Conway and Tommy DeVito. \nClassic Movie Nights are sponsored by Exxonmobil
URL:https://beaumonteventstx.com/event/movie-night-goodfellas/
LOCATION:Jefferson Theatre\, 345 Fannin\, Beaumont\, TX\, 77701
CATEGORIES:Featured,Movies
ATTACH;FMTTYPE=image/jpeg:https://beaumonteventstx.com/wp-content/uploads/2023/06/1337553.jpg
END:VEVENT
END:VCALENDAR