BEGIN:VCALENDAR
VERSION:2.0
PRODID:-//Beaumont Events - ECPv6.15.20//NONSGML v1.0//EN
CALSCALE:GREGORIAN
METHOD:PUBLISH
X-WR-CALNAME:Beaumont Events
X-ORIGINAL-URL:https://beaumonteventstx.com
X-WR-CALDESC:Events for Beaumont Events
REFRESH-INTERVAL;VALUE=DURATION:PT1H
X-Robots-Tag:noindex
X-PUBLISHED-TTL:PT1H
BEGIN:VTIMEZONE
TZID:America/Chicago
BEGIN:DAYLIGHT
TZOFFSETFROM:-0600
TZOFFSETTO:-0500
TZNAME:CDT
DTSTART:20220313T080000
END:DAYLIGHT
BEGIN:STANDARD
TZOFFSETFROM:-0500
TZOFFSETTO:-0600
TZNAME:CST
DTSTART:20221106T070000
END:STANDARD
BEGIN:DAYLIGHT
TZOFFSETFROM:-0600
TZOFFSETTO:-0500
TZNAME:CDT
DTSTART:20230312T080000
END:DAYLIGHT
BEGIN:STANDARD
TZOFFSETFROM:-0500
TZOFFSETTO:-0600
TZNAME:CST
DTSTART:20231105T070000
END:STANDARD
BEGIN:DAYLIGHT
TZOFFSETFROM:-0600
TZOFFSETTO:-0500
TZNAME:CDT
DTSTART:20240310T080000
END:DAYLIGHT
BEGIN:STANDARD
TZOFFSETFROM:-0500
TZOFFSETTO:-0600
TZNAME:CST
DTSTART:20241103T070000
END:STANDARD
END:VTIMEZONE
BEGIN:VEVENT
DTSTART;TZID=America/Chicago:20230630T190000
DTEND;TZID=America/Chicago:20230630T190000
DTSTAMP:20260424T062212
CREATED:20230508T160738Z
LAST-MODIFIED:20230508T160738Z
UID:15422-1688151600-1688151600@beaumonteventstx.com
SUMMARY:Movie Night - Double Feature: Jaws + Tremors
DESCRIPTION:Doors 6pm\nJaws 7pm\nTremors 9pm \nTickets can be purchased ahead of time at the Beaumont Civic Center box office or online now at the buy tickets link below. If tickets are still available\, you will be able to purchase them at the door the day of the movie starting at 5:00pm. Seating is general admission. \nConcessions are available for purchase. \nKids 12 and under $4\nAdults $6 \nAbout the films:\nJAWS\nWhen a killer shark unleashes chaos on a beach community off Cape Cod\, it’s up to a local sheriff\, a marine biologist\, and an old seafarer to hunt the beast down. \nTREMORS\nNatives of a small isolated town defend themselves against strange underground creatures which are killing them one by one. \n  \nClassic Movie Nights are sponsored by Exxonmobil
URL:https://beaumonteventstx.com/event/movie-night-double-feature-jaws-tremors/
LOCATION:Jefferson Theatre\, 345 Fannin\, Beaumont\, TX\, 77701
CATEGORIES:Featured,Movies
ATTACH;FMTTYPE=image/jpeg:https://beaumonteventstx.com/wp-content/uploads/2023/05/maxresdefault-e1683561945114.jpg
END:VEVENT
END:VCALENDAR