BEGIN:VCALENDAR
VERSION:2.0
PRODID:-//Beaumont Events - ECPv6.15.20//NONSGML v1.0//EN
CALSCALE:GREGORIAN
METHOD:PUBLISH
X-WR-CALNAME:Beaumont Events
X-ORIGINAL-URL:https://beaumonteventstx.com
X-WR-CALDESC:Events for Beaumont Events
REFRESH-INTERVAL;VALUE=DURATION:PT1H
X-Robots-Tag:noindex
X-PUBLISHED-TTL:PT1H
BEGIN:VTIMEZONE
TZID:America/Chicago
BEGIN:DAYLIGHT
TZOFFSETFROM:-0600
TZOFFSETTO:-0500
TZNAME:CDT
DTSTART:20220313T080000
END:DAYLIGHT
BEGIN:STANDARD
TZOFFSETFROM:-0500
TZOFFSETTO:-0600
TZNAME:CST
DTSTART:20221106T070000
END:STANDARD
BEGIN:DAYLIGHT
TZOFFSETFROM:-0600
TZOFFSETTO:-0500
TZNAME:CDT
DTSTART:20230312T080000
END:DAYLIGHT
BEGIN:STANDARD
TZOFFSETFROM:-0500
TZOFFSETTO:-0600
TZNAME:CST
DTSTART:20231105T070000
END:STANDARD
BEGIN:DAYLIGHT
TZOFFSETFROM:-0600
TZOFFSETTO:-0500
TZNAME:CDT
DTSTART:20240310T080000
END:DAYLIGHT
BEGIN:STANDARD
TZOFFSETFROM:-0500
TZOFFSETTO:-0600
TZNAME:CST
DTSTART:20241103T070000
END:STANDARD
END:VTIMEZONE
BEGIN:VEVENT
DTSTART;TZID=America/Chicago:20230430T150000
DTEND;TZID=America/Chicago:20230430T200000
DTSTAMP:20260422T105305
CREATED:20230227T214824Z
LAST-MODIFIED:20230403T211435Z
UID:15345-1682866800-1682884800@beaumonteventstx.com
SUMMARY:VIVA! Beaumont Hispanic Heritage Festival
DESCRIPTION:VIVA Beaumont Hispanic Heritage Festival returns to downtown Beaumont at the Main Library Outdoor Plaza on Main Street on Sunday\, April 30\, 2023\, from 3:00pm – 8:00 pm.\nFeaturing live entertainment from Sandy G y Los Gavilanes and Grupo Kinto Poder\, along with food trucks\, Lucha libre wrestling\, family fun activities\, and more! Admission is free and open to the public.\n\nLearn more at https://beaumonteventstx.com/vivabeaumont\n\nThis event is rain or shine.\nVIVA Beaumont is sponsored by The City of Beaumont\, Exxonmobil\, Telemundo\, Del Papa Distributing Hyundai of Silsbee\, and Giglio Distributing.
URL:https://beaumonteventstx.com/event/viva-beaumont-hispanic-heritage-festival/
LOCATION:Main Street Outdoor Plaza
CATEGORIES:Featured,Festivals,Music
ATTACH;FMTTYPE=image/jpeg:https://beaumonteventstx.com/wp-content/uploads/2023/02/VB_banner_1920x1080.jpg
GEO:30.081512;-94.095418
END:VEVENT
END:VCALENDAR