BEGIN:VCALENDAR
VERSION:2.0
PRODID:-//Beaumont Events - ECPv6.15.20//NONSGML v1.0//EN
CALSCALE:GREGORIAN
METHOD:PUBLISH
X-WR-CALNAME:Beaumont Events
X-ORIGINAL-URL:https://beaumonteventstx.com
X-WR-CALDESC:Events for Beaumont Events
REFRESH-INTERVAL;VALUE=DURATION:PT1H
X-Robots-Tag:noindex
X-PUBLISHED-TTL:PT1H
BEGIN:VTIMEZONE
TZID:America/Chicago
BEGIN:DAYLIGHT
TZOFFSETFROM:-0600
TZOFFSETTO:-0500
TZNAME:CDT
DTSTART:20220313T080000
END:DAYLIGHT
BEGIN:STANDARD
TZOFFSETFROM:-0500
TZOFFSETTO:-0600
TZNAME:CST
DTSTART:20221106T070000
END:STANDARD
BEGIN:DAYLIGHT
TZOFFSETFROM:-0600
TZOFFSETTO:-0500
TZNAME:CDT
DTSTART:20230312T080000
END:DAYLIGHT
BEGIN:STANDARD
TZOFFSETFROM:-0500
TZOFFSETTO:-0600
TZNAME:CST
DTSTART:20231105T070000
END:STANDARD
BEGIN:DAYLIGHT
TZOFFSETFROM:-0600
TZOFFSETTO:-0500
TZNAME:CDT
DTSTART:20240310T080000
END:DAYLIGHT
BEGIN:STANDARD
TZOFFSETFROM:-0500
TZOFFSETTO:-0600
TZNAME:CST
DTSTART:20241103T070000
END:STANDARD
END:VTIMEZONE
BEGIN:VEVENT
DTSTART;TZID=America/Chicago:20230304T193000
DTEND;TZID=America/Chicago:20230304T193000
DTSTAMP:20260423T100032
CREATED:20220629T192518Z
LAST-MODIFIED:20220809T225918Z
UID:15003-1677958200-1677958200@beaumonteventstx.com
SUMMARY:Symphony Concert – "Up\, Up and Away”
DESCRIPTION:Symphony Concert – “Up\, Up and Away”\nMarch 4\, 2023\nJulie Rogers Theatre \nSeating is reserved on a first-come\, first-served basis. To purchase tickets or get more information\, go to www.sost.org or contact the Symphony office at (409) 892-2257.
URL:https://beaumonteventstx.com/event/symphony-concert-up-up-and-away/
LOCATION:Julie Rogers Theatre\, 765 Pearl Street\, Beaumont\, TX\, 77701
CATEGORIES:Featured,Music
ATTACH;FMTTYPE=image/jpeg:https://beaumonteventstx.com/wp-content/uploads/2018/06/38207481_10156411372264519_6443463284971536384_n.jpg
END:VEVENT
END:VCALENDAR