BEGIN:VCALENDAR
VERSION:2.0
PRODID:-//Beaumont Events - ECPv6.15.20//NONSGML v1.0//EN
CALSCALE:GREGORIAN
METHOD:PUBLISH
X-ORIGINAL-URL:https://beaumonteventstx.com
X-WR-CALDESC:Events for Beaumont Events
REFRESH-INTERVAL;VALUE=DURATION:PT1H
X-Robots-Tag:noindex
X-PUBLISHED-TTL:PT1H
BEGIN:VTIMEZONE
TZID:America/Chicago
BEGIN:DAYLIGHT
TZOFFSETFROM:-0600
TZOFFSETTO:-0500
TZNAME:CDT
DTSTART:20210314T080000
END:DAYLIGHT
BEGIN:STANDARD
TZOFFSETFROM:-0500
TZOFFSETTO:-0600
TZNAME:CST
DTSTART:20211107T070000
END:STANDARD
BEGIN:DAYLIGHT
TZOFFSETFROM:-0600
TZOFFSETTO:-0500
TZNAME:CDT
DTSTART:20220313T080000
END:DAYLIGHT
BEGIN:STANDARD
TZOFFSETFROM:-0500
TZOFFSETTO:-0600
TZNAME:CST
DTSTART:20221106T070000
END:STANDARD
BEGIN:DAYLIGHT
TZOFFSETFROM:-0600
TZOFFSETTO:-0500
TZNAME:CDT
DTSTART:20230312T080000
END:DAYLIGHT
BEGIN:STANDARD
TZOFFSETFROM:-0500
TZOFFSETTO:-0600
TZNAME:CST
DTSTART:20231105T070000
END:STANDARD
END:VTIMEZONE
BEGIN:VEVENT
DTSTART;TZID=America/Chicago:20221210T140000
DTEND;TZID=America/Chicago:20221210T140000
DTSTAMP:20260422T075409
CREATED:20220824T144855Z
LAST-MODIFIED:20221206T143620Z
UID:15149-1670680800-1670680800@beaumonteventstx.com
SUMMARY:Beaumont Civic Ballet Presents "The Nutcracker"
DESCRIPTION:Doors open at 1:00pm and show begins at 2:00pm. For more information on show and pricing\, please visit beaumontcivicballet.net
URL:https://beaumonteventstx.com/event/beaumont-civic-ballet-presents-the-nutcracker-5/
LOCATION:Julie Rogers Theatre\, 765 Pearl Street\, Beaumont\, TX\, 77701
CATEGORIES:Dance,Featured
ATTACH;FMTTYPE=image/jpeg:https://beaumonteventstx.com/wp-content/uploads/2022/08/nutcracker_webthumb.jpg
END:VEVENT
END:VCALENDAR