BEGIN:VCALENDAR
VERSION:2.0
PRODID:-//Beaumont Events - ECPv6.15.20//NONSGML v1.0//EN
CALSCALE:GREGORIAN
METHOD:PUBLISH
X-ORIGINAL-URL:https://beaumonteventstx.com
X-WR-CALDESC:Events for Beaumont Events
REFRESH-INTERVAL;VALUE=DURATION:PT1H
X-Robots-Tag:noindex
X-PUBLISHED-TTL:PT1H
BEGIN:VTIMEZONE
TZID:America/Chicago
BEGIN:DAYLIGHT
TZOFFSETFROM:-0600
TZOFFSETTO:-0500
TZNAME:CDT
DTSTART:20210314T080000
END:DAYLIGHT
BEGIN:STANDARD
TZOFFSETFROM:-0500
TZOFFSETTO:-0600
TZNAME:CST
DTSTART:20211107T070000
END:STANDARD
BEGIN:DAYLIGHT
TZOFFSETFROM:-0600
TZOFFSETTO:-0500
TZNAME:CDT
DTSTART:20220313T080000
END:DAYLIGHT
BEGIN:STANDARD
TZOFFSETFROM:-0500
TZOFFSETTO:-0600
TZNAME:CST
DTSTART:20221106T070000
END:STANDARD
BEGIN:DAYLIGHT
TZOFFSETFROM:-0600
TZOFFSETTO:-0500
TZNAME:CDT
DTSTART:20230312T080000
END:DAYLIGHT
BEGIN:STANDARD
TZOFFSETFROM:-0500
TZOFFSETTO:-0600
TZNAME:CST
DTSTART:20231105T070000
END:STANDARD
END:VTIMEZONE
BEGIN:VEVENT
DTSTART;TZID=America/Chicago:20220612T210000
DTEND;TZID=America/Chicago:20220612T210000
DTSTAMP:20260421T082349
CREATED:20220511T200840Z
LAST-MODIFIED:20220523T183346Z
UID:14916-1655067600-1655067600@beaumonteventstx.com
SUMMARY:Bored Teachers Comedy Tour
DESCRIPTION:Sunday\, June 12\, 2022\nJefferson Theatre \nDoors 7:00pm\nShow 8:00pm \nTickets go on sale Thursday\, May 12 at 10:00am and ticket prices start at $40. \nThe biggest entertainment platform for teachers in the world—Bored Teachers—presents its first-ever comedy tour with all your favorite teacher-comedians from the BT videos and beyond! Their hilarious skits have amassed HUNDREDS OF MILLIONS of views on the internet\, and they’re all joining comic forces on the stage for a night of laughter you DO NOT want to miss. \nFeaturing: \nDevin Siebold\nKc Mack\nBriana Richardson (Honest Teacher Vibes)\nJess Smith (Miss Smith)\nVinny Thomas (Mr. Thomas English)
URL:https://beaumonteventstx.com/event/bored-teachers-comedy-tour/
LOCATION:Jefferson Theatre\, 345 Fannin\, Beaumont\, TX\, 77701
CATEGORIES:Comedy,Featured
ATTACH;FMTTYPE=image/jpeg:https://beaumonteventstx.com/wp-content/uploads/2022/05/webthumb-1.jpg
END:VEVENT
END:VCALENDAR