BEGIN:VCALENDAR
VERSION:2.0
PRODID:-//Beaumont Events - ECPv6.15.20//NONSGML v1.0//EN
CALSCALE:GREGORIAN
METHOD:PUBLISH
X-WR-CALNAME:Beaumont Events
X-ORIGINAL-URL:https://beaumonteventstx.com
X-WR-CALDESC:Events for Beaumont Events
REFRESH-INTERVAL;VALUE=DURATION:PT1H
X-Robots-Tag:noindex
X-PUBLISHED-TTL:PT1H
BEGIN:VTIMEZONE
TZID:America/Chicago
BEGIN:DAYLIGHT
TZOFFSETFROM:-0600
TZOFFSETTO:-0500
TZNAME:CDT
DTSTART:20210314T080000
END:DAYLIGHT
BEGIN:STANDARD
TZOFFSETFROM:-0500
TZOFFSETTO:-0600
TZNAME:CST
DTSTART:20211107T070000
END:STANDARD
BEGIN:DAYLIGHT
TZOFFSETFROM:-0600
TZOFFSETTO:-0500
TZNAME:CDT
DTSTART:20220313T080000
END:DAYLIGHT
BEGIN:STANDARD
TZOFFSETFROM:-0500
TZOFFSETTO:-0600
TZNAME:CST
DTSTART:20221106T070000
END:STANDARD
BEGIN:DAYLIGHT
TZOFFSETFROM:-0600
TZOFFSETTO:-0500
TZNAME:CDT
DTSTART:20230312T080000
END:DAYLIGHT
BEGIN:STANDARD
TZOFFSETFROM:-0500
TZOFFSETTO:-0600
TZNAME:CST
DTSTART:20231105T070000
END:STANDARD
END:VTIMEZONE
BEGIN:VEVENT
DTSTART;TZID=America/Chicago:20220521T203000
DTEND;TZID=America/Chicago:20220521T203000
DTSTAMP:20260424T160014
CREATED:20220419T131507Z
LAST-MODIFIED:20220421T200225Z
UID:14870-1653165000-1653165000@beaumonteventstx.com
SUMMARY:Eddie Griffin
DESCRIPTION:Eddie Griffin\nSaturday\, May 21\, 2022\nJefferson Theatre \nDoors 6:30pm\nShow 7:30pm \nOpeners Moe Williams\, JB Robinson\, and Charlie Mac \nTickets go on sale Tuesday\, April 19 at 10:00am and can be purchased at Ticketmaster.com or at the Beaumont Civic Center Box Office Monday – Friday from 10AM – 1PM. \nAbout Eddie Griffin:\nA popular comedian turned actor who started his career on-stage as a dare\, funnyman Eddie Griffin has built an ever-growing fan base since jumping onto the comedy scene in 1990. \nBorn in Kansas City\, Missouri\, Eddie was voted class clown three years in a row in high school. His first love was always dance and by the young age of 16\, he opened his own dance studio and was choreographing the Kansas City Chiefs half-time shows. But all of that would soon change when one night his cousin dared him to go on stage at the local comedy club Sanford and Sons where he was told to do 3 minutes. He performed off-the-cuff for 45 minutes successfully. It was then that Griffin purchased a one-way ticket to Los Angeles to pursue his dream of becoming a stand up. \nHe played The Pastor opposite Dave Chappelle\, Lady Gaga and Bradley Cooper in 2018’s Academy Award Winning feature film A Star is Born. \nHis Showtime Comedy Special Eddie Griffin: Undeniable debuted on Showtime in February 2018 to rave reviews. \nAbout the Jefferson Theatre
URL:https://beaumonteventstx.com/event/eddie-griffin/
LOCATION:Jefferson Theatre\, 345 Fannin\, Beaumont\, TX\, 77701
CATEGORIES:Comedy,Featured
ATTACH;FMTTYPE=image/jpeg:https://beaumonteventstx.com/wp-content/uploads/2022/04/eddiegriffin_webthumb.jpg
END:VEVENT
END:VCALENDAR