BEGIN:VCALENDAR
VERSION:2.0
PRODID:-//Beaumont Events - ECPv6.15.20//NONSGML v1.0//EN
CALSCALE:GREGORIAN
METHOD:PUBLISH
X-WR-CALNAME:Beaumont Events
X-ORIGINAL-URL:https://beaumonteventstx.com
X-WR-CALDESC:Events for Beaumont Events
REFRESH-INTERVAL;VALUE=DURATION:PT1H
X-Robots-Tag:noindex
X-PUBLISHED-TTL:PT1H
BEGIN:VTIMEZONE
TZID:America/Chicago
BEGIN:DAYLIGHT
TZOFFSETFROM:-0600
TZOFFSETTO:-0500
TZNAME:CDT
DTSTART:20200308T080000
END:DAYLIGHT
BEGIN:STANDARD
TZOFFSETFROM:-0500
TZOFFSETTO:-0600
TZNAME:CST
DTSTART:20201101T070000
END:STANDARD
BEGIN:DAYLIGHT
TZOFFSETFROM:-0600
TZOFFSETTO:-0500
TZNAME:CDT
DTSTART:20210314T080000
END:DAYLIGHT
BEGIN:STANDARD
TZOFFSETFROM:-0500
TZOFFSETTO:-0600
TZNAME:CST
DTSTART:20211107T070000
END:STANDARD
BEGIN:DAYLIGHT
TZOFFSETFROM:-0600
TZOFFSETTO:-0500
TZNAME:CDT
DTSTART:20220313T080000
END:DAYLIGHT
BEGIN:STANDARD
TZOFFSETFROM:-0500
TZOFFSETTO:-0600
TZNAME:CST
DTSTART:20221106T070000
END:STANDARD
END:VTIMEZONE
BEGIN:VEVENT
DTSTART;TZID=America/Chicago:20211210T190000
DTEND;TZID=America/Chicago:20211210T190000
DTSTAMP:20260422T105327
CREATED:20211103T152301Z
LAST-MODIFIED:20211103T152301Z
UID:14686-1639162800-1639162800@beaumonteventstx.com
SUMMARY:Movie Night - The Muppet Christmas Carol
DESCRIPTION:Friday\, December 10\, 2021\nJefferson Theatre \nDoors 6pm\nMovie 7pm \nAdults $6\nKids under 12 $4 \nThe Muppets perform the classic Dickens holiday tale\, with Kermit the Frog playing Bob Cratchit\, the put-upon clerk of stingy Ebenezer Scrooge (Michael Caine). Other Muppets — Miss Piggy\, Gonzo\, Fozzie Bear and Sam the Eagle — weave in and out of the story\, while Scrooge receives visits from spirits of three Christmases — past\, present and future. They show him the error of his self-serving ways\, but the miserable old man seems to be past any hope of redemption and happiness. \nClassic Movie Nights are sponsored by Exxonmobil
URL:https://beaumonteventstx.com/event/movie-night-the-muppet-christmas-carol/
LOCATION:Jefferson Theatre\, 345 Fannin\, Beaumont\, TX\, 77701
CATEGORIES:Featured,Movies
ATTACH;FMTTYPE=image/jpeg:https://beaumonteventstx.com/wp-content/uploads/2021/11/MUPPETS_webthumb.jpg
END:VEVENT
END:VCALENDAR