BEGIN:VCALENDAR
VERSION:2.0
PRODID:-//Beaumont Events - ECPv6.15.20//NONSGML v1.0//EN
CALSCALE:GREGORIAN
METHOD:PUBLISH
X-ORIGINAL-URL:https://beaumonteventstx.com
X-WR-CALDESC:Events for Beaumont Events
REFRESH-INTERVAL;VALUE=DURATION:PT1H
X-Robots-Tag:noindex
X-PUBLISHED-TTL:PT1H
BEGIN:VTIMEZONE
TZID:America/Chicago
BEGIN:DAYLIGHT
TZOFFSETFROM:-0600
TZOFFSETTO:-0500
TZNAME:CDT
DTSTART:20200308T080000
END:DAYLIGHT
BEGIN:STANDARD
TZOFFSETFROM:-0500
TZOFFSETTO:-0600
TZNAME:CST
DTSTART:20201101T070000
END:STANDARD
BEGIN:DAYLIGHT
TZOFFSETFROM:-0600
TZOFFSETTO:-0500
TZNAME:CDT
DTSTART:20210314T080000
END:DAYLIGHT
BEGIN:STANDARD
TZOFFSETFROM:-0500
TZOFFSETTO:-0600
TZNAME:CST
DTSTART:20211107T070000
END:STANDARD
BEGIN:DAYLIGHT
TZOFFSETFROM:-0600
TZOFFSETTO:-0500
TZNAME:CDT
DTSTART:20220313T080000
END:DAYLIGHT
BEGIN:STANDARD
TZOFFSETFROM:-0500
TZOFFSETTO:-0600
TZNAME:CST
DTSTART:20221106T070000
END:STANDARD
END:VTIMEZONE
BEGIN:VEVENT
DTSTART;TZID=America/Chicago:20211113T150000
DTEND;TZID=America/Chicago:20211113T150000
DTSTAMP:20260422T062227
CREATED:20211012T125752Z
LAST-MODIFIED:20211012T125752Z
UID:14646-1636815600-1636815600@beaumonteventstx.com
SUMMARY:Steps of Faith Performance Company Presents "Genesis"
DESCRIPTION:Steps of Faith Performance Company Presents “Genesis”\nSaturday\, November 13\, 2021 at 3:00pm\nJefferson Theatre  \nTickets go on sale Friday\, October 15 at 10:00am \nSteps of Faith Performance Company will tell the story of the book of Genesis through dance. The production will be a powerful display of God’s creation from the beginning\, and a reflection of God’s promises\, mercy\, and forgiveness.
URL:https://beaumonteventstx.com/event/steps-of-faith-performance-company-presents-genesis/
LOCATION:Jefferson Theatre\, 345 Fannin\, Beaumont\, TX\, 77701
CATEGORIES:Dance,Featured
ATTACH;FMTTYPE=image/jpeg:https://beaumonteventstx.com/wp-content/uploads/2021/10/webthumb.jpg
END:VEVENT
BEGIN:VEVENT
DTSTART;TZID=America/Chicago:20211113T190000
DTEND;TZID=America/Chicago:20211113T190000
DTSTAMP:20260422T062228
CREATED:20210708T181606Z
LAST-MODIFIED:20211112T212211Z
UID:14525-1636830000-1636830000@beaumonteventstx.com
SUMMARY:Cattle Baron’s Ball 2021
DESCRIPTION:Cattle Baron’s Ball 2021\nSaturday\, November 13\, 2021\nBeaumont Civic Center \n6:00pm – VIP Reception\n7:00pm – Ball Opens \nGuests of the 2021 Southeast Texas Cattle Baron’s Ball will enjoy a unique\, upscale event complete with live entertainment\, dinner\, dancing\, auctions\, and other special attractions including: \n\nJohn Michael Montgomery\nBid on one-of-a- kind auction packages: Live\, Silent and Bid Board!\nDelicious Cowboy Cuisine gourmet menu!\nSpecial tributes to cancer survivors and those lost to the disease\nKick Cancer Corral chance drawings\, $10\,000 Cash Raffle and MORE!\n\nClick here for more information
URL:https://beaumonteventstx.com/event/cattle-barons-ball-2021/
LOCATION:Beaumont Civic Center\, 701 Main Street\, Beaumont\, TX\, 77701
CATEGORIES:Featured,Galas
ATTACH;FMTTYPE=image/jpeg:https://beaumonteventstx.com/wp-content/uploads/2021/07/cattlebarons_webthumb.jpg
END:VEVENT
END:VCALENDAR