BEGIN:VCALENDAR
VERSION:2.0
PRODID:-//Beaumont Events - ECPv6.15.20//NONSGML v1.0//EN
CALSCALE:GREGORIAN
METHOD:PUBLISH
X-WR-CALNAME:Beaumont Events
X-ORIGINAL-URL:https://beaumonteventstx.com
X-WR-CALDESC:Events for Beaumont Events
REFRESH-INTERVAL;VALUE=DURATION:PT1H
X-Robots-Tag:noindex
X-PUBLISHED-TTL:PT1H
BEGIN:VTIMEZONE
TZID:America/Chicago
BEGIN:DAYLIGHT
TZOFFSETFROM:-0600
TZOFFSETTO:-0500
TZNAME:CDT
DTSTART:20200308T080000
END:DAYLIGHT
BEGIN:STANDARD
TZOFFSETFROM:-0500
TZOFFSETTO:-0600
TZNAME:CST
DTSTART:20201101T070000
END:STANDARD
BEGIN:DAYLIGHT
TZOFFSETFROM:-0600
TZOFFSETTO:-0500
TZNAME:CDT
DTSTART:20210314T080000
END:DAYLIGHT
BEGIN:STANDARD
TZOFFSETFROM:-0500
TZOFFSETTO:-0600
TZNAME:CST
DTSTART:20211107T070000
END:STANDARD
BEGIN:DAYLIGHT
TZOFFSETFROM:-0600
TZOFFSETTO:-0500
TZNAME:CDT
DTSTART:20220313T080000
END:DAYLIGHT
BEGIN:STANDARD
TZOFFSETFROM:-0500
TZOFFSETTO:-0600
TZNAME:CST
DTSTART:20221106T070000
END:STANDARD
END:VTIMEZONE
BEGIN:VEVENT
DTSTART;TZID=America/Chicago:20210930T200000
DTEND;TZID=America/Chicago:20210930T200000
DTSTAMP:20260425T081515
CREATED:20210503T171432Z
LAST-MODIFIED:20210521T140026Z
UID:14109-1633032000-1633032000@beaumonteventstx.com
SUMMARY:Charley Crockett
DESCRIPTION:This event has been rescheduled from Thursday\, March 27\, 2020. All tickets for the original date will be honored for the new date. \nCharley Crockett\nThursday\, September 30\, 2021\nJefferson Theatre \nDoors 7:00pm\nShow 8:00pm \nTickets on sale Wednesday\, May 5 at 10:00AM CST.
URL:https://beaumonteventstx.com/event/charley-crockett-2/
LOCATION:Jefferson Theatre\, 345 Fannin\, Beaumont\, TX\, 77701
CATEGORIES:Featured,Music
ATTACH;FMTTYPE=image/jpeg:https://beaumonteventstx.com/wp-content/uploads/2020/06/CharleyCrockett_web.jpg
END:VEVENT
END:VCALENDAR