BEGIN:VCALENDAR
VERSION:2.0
PRODID:-//Beaumont Events - ECPv6.15.20//NONSGML v1.0//EN
CALSCALE:GREGORIAN
METHOD:PUBLISH
X-WR-CALNAME:Beaumont Events
X-ORIGINAL-URL:https://beaumonteventstx.com
X-WR-CALDESC:Events for Beaumont Events
REFRESH-INTERVAL;VALUE=DURATION:PT1H
X-Robots-Tag:noindex
X-PUBLISHED-TTL:PT1H
BEGIN:VTIMEZONE
TZID:America/Chicago
BEGIN:DAYLIGHT
TZOFFSETFROM:-0600
TZOFFSETTO:-0500
TZNAME:CDT
DTSTART:20200308T080000
END:DAYLIGHT
BEGIN:STANDARD
TZOFFSETFROM:-0500
TZOFFSETTO:-0600
TZNAME:CST
DTSTART:20201101T070000
END:STANDARD
BEGIN:DAYLIGHT
TZOFFSETFROM:-0600
TZOFFSETTO:-0500
TZNAME:CDT
DTSTART:20210314T080000
END:DAYLIGHT
BEGIN:STANDARD
TZOFFSETFROM:-0500
TZOFFSETTO:-0600
TZNAME:CST
DTSTART:20211107T070000
END:STANDARD
BEGIN:DAYLIGHT
TZOFFSETFROM:-0600
TZOFFSETTO:-0500
TZNAME:CDT
DTSTART:20220313T080000
END:DAYLIGHT
BEGIN:STANDARD
TZOFFSETFROM:-0500
TZOFFSETTO:-0600
TZNAME:CST
DTSTART:20221106T070000
END:STANDARD
END:VTIMEZONE
BEGIN:VEVENT
DTSTART;TZID=America/Chicago:20210628T200000
DTEND;TZID=America/Chicago:20210628T200000
DTSTAMP:20260422T103357
CREATED:20210610T191305Z
LAST-MODIFIED:20210610T204855Z
UID:14498-1624910400-1624910400@beaumonteventstx.com
SUMMARY:Air National Guard Band of the Southwest Concert
DESCRIPTION:Air National Guard Band of the Southwest\nMonday\, June 28\, 2021\nJefferson Theatre \nDoors 6pm\nShow 7pm \nThe Air National Guard Band of the Southwest\, historically known as the 531st Air Force Band\, will present a free concert at the Jefferson Theatre on Monday\, June 28 at 7:00 pm. \nThe concert is free and open to the public. Tickets can be picked up from the following locations:\nBeaumont Civic Center Box Office – 701 Main Street 10am-1pm\, Monday – Friday\nThe Examiner – 795 Willow 9am-4pm\, Monday – Friday\nSwicegood Music Company – 3685 College Street 8:30am-5:30pm\, Monday – Saturday \nThe 45 member unit will perform a variety of styles from military marches and patriotic selections\, to Broadway show tunes\, movie themes and timeless concert literature. This component performs various types of concerts throughout the year from formal military events to casual concerts in the park. Its annual tours have taken the band through the United States and many foreign locations. For more information\, follow the band on Facebook.
URL:https://beaumonteventstx.com/event/air-national-guard-band-of-the-southwest-concert/
LOCATION:Jefferson Theatre\, 345 Fannin\, Beaumont\, TX\, 77701
CATEGORIES:Featured,Music
ATTACH;FMTTYPE=image/jpeg:https://beaumonteventstx.com/wp-content/uploads/2021/06/AirNationalGuard_webthumb.jpg
END:VEVENT
END:VCALENDAR