BEGIN:VCALENDAR
VERSION:2.0
PRODID:-//Beaumont Events - ECPv6.15.20//NONSGML v1.0//EN
CALSCALE:GREGORIAN
METHOD:PUBLISH
X-ORIGINAL-URL:https://beaumonteventstx.com
X-WR-CALDESC:Events for Beaumont Events
REFRESH-INTERVAL;VALUE=DURATION:PT1H
X-Robots-Tag:noindex
X-PUBLISHED-TTL:PT1H
BEGIN:VTIMEZONE
TZID:America/Chicago
BEGIN:DAYLIGHT
TZOFFSETFROM:-0600
TZOFFSETTO:-0500
TZNAME:CDT
DTSTART:20200308T080000
END:DAYLIGHT
BEGIN:STANDARD
TZOFFSETFROM:-0500
TZOFFSETTO:-0600
TZNAME:CST
DTSTART:20201101T070000
END:STANDARD
BEGIN:DAYLIGHT
TZOFFSETFROM:-0600
TZOFFSETTO:-0500
TZNAME:CDT
DTSTART:20210314T080000
END:DAYLIGHT
BEGIN:STANDARD
TZOFFSETFROM:-0500
TZOFFSETTO:-0600
TZNAME:CST
DTSTART:20211107T070000
END:STANDARD
BEGIN:DAYLIGHT
TZOFFSETFROM:-0600
TZOFFSETTO:-0500
TZNAME:CDT
DTSTART:20220313T080000
END:DAYLIGHT
BEGIN:STANDARD
TZOFFSETFROM:-0500
TZOFFSETTO:-0600
TZNAME:CST
DTSTART:20221106T070000
END:STANDARD
END:VTIMEZONE
BEGIN:VEVENT
DTSTART;TZID=America/Chicago:20210601T113000
DTEND;TZID=America/Chicago:20210601T150000
DTSTAMP:20260422T072512
CREATED:20210525T160110Z
LAST-MODIFIED:20210526T153014Z
UID:14464-1622547000-1622559600@beaumonteventstx.com
SUMMARY:Lunch at the Lake
DESCRIPTION:Lunch at the Lake\nEvent Centre Patio\nTuesdays in June\n10:30am – 2:00pm \nLunch at the Lake is back featuring locally owned food trucks every Tuesday in June at the Event Centre Patio in Downtown. Food will be available for purchase from the food truck pop-up from 10:30am – 2:00pm.   \nPlan a picnic and enjoy delicious food with coworkers\, family and friends all while admiring the views of Downtown Beaumont. Say hello to the resident ducks\, enjoy the playground or grab a bite to go. \nJune 1st will feature The Bread Bus.  \n 
URL:https://beaumonteventstx.com/event/lunch-at-the-lake/
LOCATION:Lake at Downtown Event Centre\, 700 Crockett St\, Beaumont\, TX\, 77701
CATEGORIES:Featured,Meetings
ATTACH;FMTTYPE=image/jpeg:https://beaumonteventstx.com/wp-content/uploads/2021/05/FoodTruck_webthumb.jpg
END:VEVENT
END:VCALENDAR