BEGIN:VCALENDAR
VERSION:2.0
PRODID:-//Beaumont Events - ECPv6.15.20//NONSGML v1.0//EN
CALSCALE:GREGORIAN
METHOD:PUBLISH
X-WR-CALNAME:Beaumont Events
X-ORIGINAL-URL:https://beaumonteventstx.com
X-WR-CALDESC:Events for Beaumont Events
REFRESH-INTERVAL;VALUE=DURATION:PT1H
X-Robots-Tag:noindex
X-PUBLISHED-TTL:PT1H
BEGIN:VTIMEZONE
TZID:America/Chicago
BEGIN:DAYLIGHT
TZOFFSETFROM:-0600
TZOFFSETTO:-0500
TZNAME:CDT
DTSTART:20190310T080000
END:DAYLIGHT
BEGIN:STANDARD
TZOFFSETFROM:-0500
TZOFFSETTO:-0600
TZNAME:CST
DTSTART:20191103T070000
END:STANDARD
BEGIN:DAYLIGHT
TZOFFSETFROM:-0600
TZOFFSETTO:-0500
TZNAME:CDT
DTSTART:20200308T080000
END:DAYLIGHT
BEGIN:STANDARD
TZOFFSETFROM:-0500
TZOFFSETTO:-0600
TZNAME:CST
DTSTART:20201101T070000
END:STANDARD
BEGIN:DAYLIGHT
TZOFFSETFROM:-0600
TZOFFSETTO:-0500
TZNAME:CDT
DTSTART:20210314T080000
END:DAYLIGHT
BEGIN:STANDARD
TZOFFSETFROM:-0500
TZOFFSETTO:-0600
TZNAME:CST
DTSTART:20211107T070000
END:STANDARD
END:VTIMEZONE
BEGIN:VEVENT
DTSTART;TZID=America/Chicago:20201030T200000
DTEND;TZID=America/Chicago:20201030T010000
DTSTAMP:20260422T075138
CREATED:20201014T170514Z
LAST-MODIFIED:20201014T170514Z
UID:14190-1604088000-1604019600@beaumonteventstx.com
SUMMARY:A2Z Movie Night LIVE: “The Lost Boys”
DESCRIPTION:A2Z Podcast and The Art Studio presents A2Z Movie Night LIVE: “The Lost Boys” at the Jefferson Theatre Friday\, October 30th at 7pm. Enjoy live music\, art popups\, a full bar\, and more. \nAges 18+ only \nDoors 7pm\nCostume judging will take place until 8:45pm \nTickets go on sale on October 16th at 10 am. Buy tickets online or at the Civic Center Box Office from 10-1! \n$10 presale\, $15 at door. Limited to 200.\nAll proceeds will be donated to The Art Studio Inc.
URL:https://beaumonteventstx.com/event/a2z-movie-night-live-the-lost-boys/
LOCATION:Jefferson Theatre\, 345 Fannin\, Beaumont\, TX\, 77701
CATEGORIES:Featured,Movies
ATTACH;FMTTYPE=image/jpeg:https://beaumonteventstx.com/wp-content/uploads/2020/10/A2ZMovieEvent_webthumb.jpg
END:VEVENT
END:VCALENDAR