BEGIN:VCALENDAR
VERSION:2.0
PRODID:-//Beaumont Events - ECPv6.15.20//NONSGML v1.0//EN
CALSCALE:GREGORIAN
METHOD:PUBLISH
X-WR-CALNAME:Beaumont Events
X-ORIGINAL-URL:https://beaumonteventstx.com
X-WR-CALDESC:Events for Beaumont Events
REFRESH-INTERVAL;VALUE=DURATION:PT1H
X-Robots-Tag:noindex
X-PUBLISHED-TTL:PT1H
BEGIN:VTIMEZONE
TZID:America/Chicago
BEGIN:DAYLIGHT
TZOFFSETFROM:-0600
TZOFFSETTO:-0500
TZNAME:CDT
DTSTART:20180311T080000
END:DAYLIGHT
BEGIN:STANDARD
TZOFFSETFROM:-0500
TZOFFSETTO:-0600
TZNAME:CST
DTSTART:20181104T070000
END:STANDARD
BEGIN:DAYLIGHT
TZOFFSETFROM:-0600
TZOFFSETTO:-0500
TZNAME:CDT
DTSTART:20190310T080000
END:DAYLIGHT
BEGIN:STANDARD
TZOFFSETFROM:-0500
TZOFFSETTO:-0600
TZNAME:CST
DTSTART:20191103T070000
END:STANDARD
BEGIN:DAYLIGHT
TZOFFSETFROM:-0600
TZOFFSETTO:-0500
TZNAME:CDT
DTSTART:20200308T080000
END:DAYLIGHT
BEGIN:STANDARD
TZOFFSETFROM:-0500
TZOFFSETTO:-0600
TZNAME:CST
DTSTART:20201101T070000
END:STANDARD
END:VTIMEZONE
BEGIN:VEVENT
DTSTART;TZID=America/Chicago:20190830T190000
DTEND;TZID=America/Chicago:20190830T190000
DTSTAMP:20260421T055021
CREATED:20190627T144931Z
LAST-MODIFIED:20190730T143256Z
UID:13588-1567191600-1567191600@beaumonteventstx.com
SUMMARY:Movie Night - Full Metal Jacket
DESCRIPTION:Doors 6:00 p.m.\nShow 7:30 p.m.\nCall 409.838.3435 for more information. \n\n\n\n\nStanley Kubrick’s take on the Vietnam War follows smart-aleck Private Davis (Matthew Modine)\, quickly christened “Joker” by his foul-mouthed drill sergeant (R. Lee Ermey)\, and pudgy Private Lawrence (Vincent D’Onofrio)\, nicknamed “Gomer Pyle\,” as they endure the rigors of basic training. Though Pyle takes a frightening detour\, Joker graduates to the Marine Corps and is sent to Vietnam as a journalist\, covering — and eventually participating in — the bloody Battle of Hué.\n\n\n\n\nClassic Movie Nights are sponsored by ExxonMobil and Classic Southeast Texas.
URL:https://beaumonteventstx.com/event/movie-night-full-metal-jacket/
LOCATION:Jefferson Theatre\, 345 Fannin\, Beaumont\, TX\, 77701
CATEGORIES:Featured,Movies
ATTACH;FMTTYPE=image/jpeg:https://beaumonteventstx.com/wp-content/uploads/2019/06/Full-Metal-Jacket-web-thumb.jpg
END:VEVENT
END:VCALENDAR