BEGIN:VCALENDAR
VERSION:2.0
PRODID:-//Beaumont Events - ECPv6.15.20//NONSGML v1.0//EN
CALSCALE:GREGORIAN
METHOD:PUBLISH
X-WR-CALNAME:Beaumont Events
X-ORIGINAL-URL:https://beaumonteventstx.com
X-WR-CALDESC:Events for Beaumont Events
REFRESH-INTERVAL;VALUE=DURATION:PT1H
X-Robots-Tag:noindex
X-PUBLISHED-TTL:PT1H
BEGIN:VTIMEZONE
TZID:America/Chicago
BEGIN:DAYLIGHT
TZOFFSETFROM:-0600
TZOFFSETTO:-0500
TZNAME:CDT
DTSTART:20180311T080000
END:DAYLIGHT
BEGIN:STANDARD
TZOFFSETFROM:-0500
TZOFFSETTO:-0600
TZNAME:CST
DTSTART:20181104T070000
END:STANDARD
BEGIN:DAYLIGHT
TZOFFSETFROM:-0600
TZOFFSETTO:-0500
TZNAME:CDT
DTSTART:20190310T080000
END:DAYLIGHT
BEGIN:STANDARD
TZOFFSETFROM:-0500
TZOFFSETTO:-0600
TZNAME:CST
DTSTART:20191103T070000
END:STANDARD
BEGIN:DAYLIGHT
TZOFFSETFROM:-0600
TZOFFSETTO:-0500
TZNAME:CDT
DTSTART:20200308T080000
END:DAYLIGHT
BEGIN:STANDARD
TZOFFSETFROM:-0500
TZOFFSETTO:-0600
TZNAME:CST
DTSTART:20201101T070000
END:STANDARD
END:VTIMEZONE
BEGIN:VEVENT
DTSTART;TZID=America/Chicago:20190817T080000
DTEND;TZID=America/Chicago:20190818T000000
DTSTAMP:20260422T072046
CREATED:20190617T132545Z
LAST-MODIFIED:20190627T151336Z
UID:13562-1566028800-1566086400@beaumonteventstx.com
SUMMARY:Global Championships and Fitness Expo
DESCRIPTION:Global Championships and Fitness Expo\nFeaturing Pro Women’s Beach Body and Classic Bodybuilding\nPro-Qualifier and All Amateur Classes\nFIT-N-INKED\nUSPA Powerlifting\n10 Planet Beaumont JIU-JITSU\nVendor Booths
URL:https://beaumonteventstx.com/event/global-championships-fitness-expo/
LOCATION:Beaumont Civic Center\, 701 Main Street\, Beaumont\, TX\, 77701
CATEGORIES:Expos,Sports
ATTACH;FMTTYPE=image/jpeg:https://beaumonteventstx.com/wp-content/uploads/2019/06/global-championship.jpg
END:VEVENT
END:VCALENDAR