BEGIN:VCALENDAR
VERSION:2.0
PRODID:-//Beaumont Events - ECPv6.15.20//NONSGML v1.0//EN
CALSCALE:GREGORIAN
METHOD:PUBLISH
X-ORIGINAL-URL:https://beaumonteventstx.com
X-WR-CALDESC:Events for Beaumont Events
REFRESH-INTERVAL;VALUE=DURATION:PT1H
X-Robots-Tag:noindex
X-PUBLISHED-TTL:PT1H
BEGIN:VTIMEZONE
TZID:America/Chicago
BEGIN:DAYLIGHT
TZOFFSETFROM:-0600
TZOFFSETTO:-0500
TZNAME:CDT
DTSTART:20180311T080000
END:DAYLIGHT
BEGIN:STANDARD
TZOFFSETFROM:-0500
TZOFFSETTO:-0600
TZNAME:CST
DTSTART:20181104T070000
END:STANDARD
BEGIN:DAYLIGHT
TZOFFSETFROM:-0600
TZOFFSETTO:-0500
TZNAME:CDT
DTSTART:20190310T080000
END:DAYLIGHT
BEGIN:STANDARD
TZOFFSETFROM:-0500
TZOFFSETTO:-0600
TZNAME:CST
DTSTART:20191103T070000
END:STANDARD
BEGIN:DAYLIGHT
TZOFFSETFROM:-0600
TZOFFSETTO:-0500
TZNAME:CDT
DTSTART:20200308T080000
END:DAYLIGHT
BEGIN:STANDARD
TZOFFSETFROM:-0500
TZOFFSETTO:-0600
TZNAME:CST
DTSTART:20201101T070000
END:STANDARD
END:VTIMEZONE
BEGIN:VEVENT
DTSTART;TZID=America/Chicago:20190809T190000
DTEND;TZID=America/Chicago:20190809T190000
DTSTAMP:20260422T082109
CREATED:20190702T202725Z
LAST-MODIFIED:20190726T202917Z
UID:13613-1565377200-1565377200@beaumonteventstx.com
SUMMARY:BMT Film Fest: Cinema Paradiso
DESCRIPTION:BMT Film Fest\nAugust 5 – 10\nJefferson Theatre\nTickets: $5 per day or $20 for weekly pass \nThe BMT Film Fest\, presented by the City of Beaumont\, will bring together cinema enthusiasts\, filmmakers and artists to celebrate and discover the best in foreign and local cinema\, August 5-10\, 2019\, at the historic Jefferson Theatre. \nTickets can be purchased at the door or in advance from the Beaumont Civic Center Box Office\, open Monday – Friday from 9:00 a.m. to 1:00 p.m. \nThe Jefferson Theatre will host a week of critically-acclaimed foreign film screenings leading up to the festival. The selected films will expose viewers to cinematic gems from across the world and offer them the opportunity to gain a broader sense of international artistic visions. Screenings will begin at 7:30 p.m. with doors to the theatre opening at 6:00 p.m. The BMT Film Fest will screen the following foreign films: \n· August 5: 8½ (d. Federico Fellini\, 1963) \n· August 6: Seven Samurai (d. Akira Kurosawa\, 1954) \n· August 7: Motorcycle Diaries (d. Walter Salles\, 2004) \n· August 8: Metropolis (d. Fritz Lang\, 1927) \n· August 9: Cinema Paradiso (d. Giuseppe Tornatore\, 1988) \nOn Saturday\, August 10\, the BMT Film Fest will screen several feature films and documentaries\, short films\, animated features and student films. Doors open at 11:30am. Screenings will begin at 12:00 p.m. with award presentations at 6:00 p.m. The evening will conclude with a screening of “Not Me\,” the latest from Lamar University film professor Mahmoud Salimi. The film is Salimi’s eleventh film as a director and has received global accolades since its release
URL:https://beaumonteventstx.com/event/bmt-film-fest-cinema-paradiso/
LOCATION:Jefferson Theatre\, 345 Fannin\, Beaumont\, TX\, 77701
CATEGORIES:Festivals,Movies
ATTACH;FMTTYPE=image/jpeg:https://beaumonteventstx.com/wp-content/uploads/2019/07/Cinema-Paradiso-web-thumb.jpg
END:VEVENT
END:VCALENDAR