BEGIN:VCALENDAR
VERSION:2.0
PRODID:-//Beaumont Events - ECPv6.15.20//NONSGML v1.0//EN
CALSCALE:GREGORIAN
METHOD:PUBLISH
X-ORIGINAL-URL:https://beaumonteventstx.com
X-WR-CALDESC:Events for Beaumont Events
REFRESH-INTERVAL;VALUE=DURATION:PT1H
X-Robots-Tag:noindex
X-PUBLISHED-TTL:PT1H
BEGIN:VTIMEZONE
TZID:America/Chicago
BEGIN:DAYLIGHT
TZOFFSETFROM:-0600
TZOFFSETTO:-0500
TZNAME:CDT
DTSTART:20180311T080000
END:DAYLIGHT
BEGIN:STANDARD
TZOFFSETFROM:-0500
TZOFFSETTO:-0600
TZNAME:CST
DTSTART:20181104T070000
END:STANDARD
BEGIN:DAYLIGHT
TZOFFSETFROM:-0600
TZOFFSETTO:-0500
TZNAME:CDT
DTSTART:20190310T080000
END:DAYLIGHT
BEGIN:STANDARD
TZOFFSETFROM:-0500
TZOFFSETTO:-0600
TZNAME:CST
DTSTART:20191103T070000
END:STANDARD
BEGIN:DAYLIGHT
TZOFFSETFROM:-0600
TZOFFSETTO:-0500
TZNAME:CDT
DTSTART:20200308T080000
END:DAYLIGHT
BEGIN:STANDARD
TZOFFSETFROM:-0500
TZOFFSETTO:-0600
TZNAME:CST
DTSTART:20201101T070000
END:STANDARD
END:VTIMEZONE
BEGIN:VEVENT
DTSTART;TZID=America/Chicago:20190404T193000
DTEND;TZID=America/Chicago:20190404T193000
DTSTAMP:20260421T142742
CREATED:20190211T203420Z
LAST-MODIFIED:20190211T203420Z
UID:13233-1554406200-1554406200@beaumonteventstx.com
SUMMARY:Gift of Life Champagne & Ribs
DESCRIPTION:Outlast\, Outplay\, Outfight Prostate Cancer at the 14th Annual Gift of Life Champagne & Ribs “Survivor Reality Show” event on Thursday\, April 4 at 6:30 PM at the Beaumont Civic Center\, featuring Mahalo Chief Honorees: Todd Clarke\, MD; Honorable Jim Mehaffy; Commissioner Michael Shane Sinegal; and Tim Sudela. This Party of the Year benefits the Gift of Life’s Men’s Health & Prostate Cancer Program\, which provides lifesaving health services for men in need. \nEvent Sponsorship or Tickets Call the Gift of Life at 409.833.3663
URL:https://beaumonteventstx.com/event/gift-life-champagne-ribs-2/
LOCATION:Beaumont Civic Center\, 701 Main Street\, Beaumont\, TX\, 77701
CATEGORIES:Galas,Meetings
ATTACH;FMTTYPE=image/jpeg:https://beaumonteventstx.com/wp-content/uploads/2019/02/CandR.jpg
END:VEVENT
END:VCALENDAR