BEGIN:VCALENDAR
VERSION:2.0
PRODID:-//Beaumont Events - ECPv6.15.20//NONSGML v1.0//EN
CALSCALE:GREGORIAN
METHOD:PUBLISH
X-ORIGINAL-URL:https://beaumonteventstx.com
X-WR-CALDESC:Events for Beaumont Events
REFRESH-INTERVAL;VALUE=DURATION:PT1H
X-Robots-Tag:noindex
X-PUBLISHED-TTL:PT1H
BEGIN:VTIMEZONE
TZID:America/Chicago
BEGIN:DAYLIGHT
TZOFFSETFROM:-0600
TZOFFSETTO:-0500
TZNAME:CDT
DTSTART:20170312T080000
END:DAYLIGHT
BEGIN:STANDARD
TZOFFSETFROM:-0500
TZOFFSETTO:-0600
TZNAME:CST
DTSTART:20171105T070000
END:STANDARD
BEGIN:DAYLIGHT
TZOFFSETFROM:-0600
TZOFFSETTO:-0500
TZNAME:CDT
DTSTART:20180311T080000
END:DAYLIGHT
BEGIN:STANDARD
TZOFFSETFROM:-0500
TZOFFSETTO:-0600
TZNAME:CST
DTSTART:20181104T070000
END:STANDARD
BEGIN:DAYLIGHT
TZOFFSETFROM:-0600
TZOFFSETTO:-0500
TZNAME:CDT
DTSTART:20190310T080000
END:DAYLIGHT
BEGIN:STANDARD
TZOFFSETFROM:-0500
TZOFFSETTO:-0600
TZNAME:CST
DTSTART:20191103T070000
END:STANDARD
END:VTIMEZONE
BEGIN:VEVENT
DTSTART;TZID=America/Chicago:20180921T200000
DTEND;TZID=America/Chicago:20180921T200000
DTSTAMP:20260422T095331
CREATED:20180803T141004Z
LAST-MODIFIED:20180803T141123Z
UID:12848-1537560000-1537560000@beaumonteventstx.com
SUMMARY:Chonda Pierce
DESCRIPTION:Chonda Pierce\nFriday\, September 21\nJulie Rogers Theatre \nEmmy®-nominated and best-selling comedian Chonda Pierce\, or “the country comic” as Billboard Magazine dubbed her\, has been making audiences laugh for more than two decades with her winning combination of fierce wit and southern charm. A stand-up comedian\, television hostess\, author and actress\, Pierce has channeled her life experiences into positivity\, bringing laughter to audiences around the country. As the RIAA’s best-selling female comedian of all time\, her hilarious take on life is easily relatable as she publicly opens up to her listeners about times of darkness and depression in her own life\, drawing humor and good from every situation. \nIn addition to her comedic work\, Pierce has used her success to help others\, and in 2006 founded Branches Recovery Center\, which offers counseling and treatment to those with depression\, anxiety\, addiction\, regardless of their ability to pay. She has also raised millions of dollars for international relief organizations Compassion International\, WorldVision\, Food for the Hungry and Feed The Children.\nToday\, as the RIAA’s best-selling female comedian\, Pierce continues to bring the laughs with her unique blend of music and comedy. \nClick here to purchase tickets.
URL:https://beaumonteventstx.com/event/chonda-pierce/
LOCATION:Julie Rogers Theatre\, 765 Pearl Street\, Beaumont\, TX\, 77701
CATEGORIES:Comedy,Featured
ATTACH;FMTTYPE=image/jpeg:https://beaumonteventstx.com/wp-content/uploads/2018/08/Chonda_web-thumb.jpg
END:VEVENT
END:VCALENDAR