BEGIN:VCALENDAR
VERSION:2.0
PRODID:-//Beaumont Events - ECPv6.15.20//NONSGML v1.0//EN
CALSCALE:GREGORIAN
METHOD:PUBLISH
X-ORIGINAL-URL:https://beaumonteventstx.com
X-WR-CALDESC:Events for Beaumont Events
REFRESH-INTERVAL;VALUE=DURATION:PT1H
X-Robots-Tag:noindex
X-PUBLISHED-TTL:PT1H
BEGIN:VTIMEZONE
TZID:America/Chicago
BEGIN:DAYLIGHT
TZOFFSETFROM:-0600
TZOFFSETTO:-0500
TZNAME:CDT
DTSTART:20170312T080000
END:DAYLIGHT
BEGIN:STANDARD
TZOFFSETFROM:-0500
TZOFFSETTO:-0600
TZNAME:CST
DTSTART:20171105T070000
END:STANDARD
BEGIN:DAYLIGHT
TZOFFSETFROM:-0600
TZOFFSETTO:-0500
TZNAME:CDT
DTSTART:20180311T080000
END:DAYLIGHT
BEGIN:STANDARD
TZOFFSETFROM:-0500
TZOFFSETTO:-0600
TZNAME:CST
DTSTART:20181104T070000
END:STANDARD
BEGIN:DAYLIGHT
TZOFFSETFROM:-0600
TZOFFSETTO:-0500
TZNAME:CDT
DTSTART:20190310T080000
END:DAYLIGHT
BEGIN:STANDARD
TZOFFSETFROM:-0500
TZOFFSETTO:-0600
TZNAME:CST
DTSTART:20191103T070000
END:STANDARD
END:VTIMEZONE
BEGIN:VEVENT
DTSTART;TZID=America/Chicago:20180825T110000
DTEND;TZID=America/Chicago:20180825T170000
DTSTAMP:20260424T050019
CREATED:20180731T192907Z
LAST-MODIFIED:20180731T192907Z
UID:12843-1535194800-1535216400@beaumonteventstx.com
SUMMARY:Beaumont Children's Museum Dino Day
DESCRIPTION:BCM Second Annual Dino Day\nSaturday\, August 25\n10:00am – 4:00pm\nBeaumont Civic Center \nMember Entry: $4 a person\n(Must have membership card)\nNon-Member Entry: $8 a person \nThis includes the children’s museum and entry into Dino George in the Civic Center. \nBCM’s 2nd Annual Dino Day is coming up soon. Last year we were interrupted by Harvey. This year we are ending the summer with a big splash and welcoming Dinosaur George and his Traveling Museum to our special day. End your summer right and kick off your school year with some dinosaur education and surprises at the Beaumont Children’s Museum and Civic Center.
URL:https://beaumonteventstx.com/event/beaumont-childrens-museum-dino-day/
LOCATION:Beaumont Civic Center\, 701 Main Street\, Beaumont\, TX\, 77701
CATEGORIES:Featured
ATTACH;FMTTYPE=image/jpeg:https://beaumonteventstx.com/wp-content/uploads/2018/07/Untitled-2-1.jpg
END:VEVENT
END:VCALENDAR