BEGIN:VCALENDAR
VERSION:2.0
PRODID:-//Beaumont Events - ECPv6.15.20//NONSGML v1.0//EN
CALSCALE:GREGORIAN
METHOD:PUBLISH
X-WR-CALNAME:Beaumont Events
X-ORIGINAL-URL:https://beaumonteventstx.com
X-WR-CALDESC:Events for Beaumont Events
REFRESH-INTERVAL;VALUE=DURATION:PT1H
X-Robots-Tag:noindex
X-PUBLISHED-TTL:PT1H
BEGIN:VTIMEZONE
TZID:America/Chicago
BEGIN:DAYLIGHT
TZOFFSETFROM:-0600
TZOFFSETTO:-0500
TZNAME:CDT
DTSTART:20170312T080000
END:DAYLIGHT
BEGIN:STANDARD
TZOFFSETFROM:-0500
TZOFFSETTO:-0600
TZNAME:CST
DTSTART:20171105T070000
END:STANDARD
BEGIN:DAYLIGHT
TZOFFSETFROM:-0600
TZOFFSETTO:-0500
TZNAME:CDT
DTSTART:20180311T080000
END:DAYLIGHT
BEGIN:STANDARD
TZOFFSETFROM:-0500
TZOFFSETTO:-0600
TZNAME:CST
DTSTART:20181104T070000
END:STANDARD
BEGIN:DAYLIGHT
TZOFFSETFROM:-0600
TZOFFSETTO:-0500
TZNAME:CDT
DTSTART:20190310T080000
END:DAYLIGHT
BEGIN:STANDARD
TZOFFSETFROM:-0500
TZOFFSETTO:-0600
TZNAME:CST
DTSTART:20191103T070000
END:STANDARD
END:VTIMEZONE
BEGIN:VEVENT
DTSTART;TZID=America/Chicago:20180818T170000
DTEND;TZID=America/Chicago:20180818T210000
DTSTAMP:20260422T083256
CREATED:20180725T194254Z
LAST-MODIFIED:20180815T144737Z
UID:12833-1534611600-1534626000@beaumonteventstx.com
SUMMARY:Tequila & Tacos
DESCRIPTION:Tequila & Tacos\nSaturday\, August 18\n4:00pm – 8:00pm\nDowntown Event Centre \nTickets are $15 and include four 2oz. tastings and two tacos. There will be a cash bar and tacos available for purchase. Attendees must be 21 or older. \nPerformances from Cuevo and Sandy G y Los Gavilanes and live painting and art show by Ines Alvidres. \nTickets are on sale now and can be purchased on ticketmaster.com.
URL:https://beaumonteventstx.com/event/tequila-tacos/
LOCATION:Lake at Downtown Event Centre\, 700 Crockett St\, Beaumont\, TX\, 77701
CATEGORIES:Featured,Festivals
ATTACH;FMTTYPE=image/jpeg:https://beaumonteventstx.com/wp-content/uploads/2018/07/TT-web-thumb.jpg
END:VEVENT
BEGIN:VEVENT
DTSTART;TZID=America/Chicago:20180818T193000
DTEND;TZID=America/Chicago:20180818T193000
DTSTAMP:20260422T083256
CREATED:20180808T173826Z
LAST-MODIFIED:20180808T173826Z
UID:12862-1534620600-1534620600@beaumonteventstx.com
SUMMARY:Hurricane Pro Wrestling
DESCRIPTION:Hurricane Pro Wrestling\nSaturday\, August 18\nBeaumont Civic Center \nHeavyweight Champion Jordan Jensen will face Absolute Ricky Starks August 18 live in the Beaumont Civic Center. \nClick here to purchase tickets. \n 
URL:https://beaumonteventstx.com/event/hurricane-pro-wrestling-8/
LOCATION:Beaumont Civic Center\, 701 Main Street\, Beaumont\, TX\, 77701
CATEGORIES:Featured,Sports
ATTACH;FMTTYPE=image/jpeg:https://beaumonteventstx.com/wp-content/uploads/2018/08/Untitled-4.jpg
END:VEVENT
END:VCALENDAR