BEGIN:VCALENDAR
VERSION:2.0
PRODID:-//Beaumont Events - ECPv6.15.20//NONSGML v1.0//EN
CALSCALE:GREGORIAN
METHOD:PUBLISH
X-ORIGINAL-URL:https://beaumonteventstx.com
X-WR-CALDESC:Events for Beaumont Events
REFRESH-INTERVAL;VALUE=DURATION:PT1H
X-Robots-Tag:noindex
X-PUBLISHED-TTL:PT1H
BEGIN:VTIMEZONE
TZID:America/Chicago
BEGIN:DAYLIGHT
TZOFFSETFROM:-0600
TZOFFSETTO:-0500
TZNAME:CDT
DTSTART:20170312T080000
END:DAYLIGHT
BEGIN:STANDARD
TZOFFSETFROM:-0500
TZOFFSETTO:-0600
TZNAME:CST
DTSTART:20171105T070000
END:STANDARD
BEGIN:DAYLIGHT
TZOFFSETFROM:-0600
TZOFFSETTO:-0500
TZNAME:CDT
DTSTART:20180311T080000
END:DAYLIGHT
BEGIN:STANDARD
TZOFFSETFROM:-0500
TZOFFSETTO:-0600
TZNAME:CST
DTSTART:20181104T070000
END:STANDARD
BEGIN:DAYLIGHT
TZOFFSETFROM:-0600
TZOFFSETTO:-0500
TZNAME:CDT
DTSTART:20190310T080000
END:DAYLIGHT
BEGIN:STANDARD
TZOFFSETFROM:-0500
TZOFFSETTO:-0600
TZNAME:CST
DTSTART:20191103T070000
END:STANDARD
END:VTIMEZONE
BEGIN:VEVENT
DTSTART;TZID=America/Chicago:20180805T150000
DTEND;TZID=America/Chicago:20180805T170000
DTSTAMP:20260422T054053
CREATED:20180723T121106Z
LAST-MODIFIED:20180723T121106Z
UID:12828-1533481200-1533488400@beaumonteventstx.com
SUMMARY:Southeast Texas PREP Rally
DESCRIPTION:Southeast Texas Prep Rally with Save the Children and Mental Health America Southeast Texas\nAugust 5\n2:00pm – 4:00pm\nBeaumont Civic Center \nA Prep Rally is a free community event aimed at helping children and families learn the basics of emergency preparedness. The event features family-fun activities\, free snacks\, door prizes\, cheers\, games and enrichment activities. The Prep Rally will help children and the community gain knowledge and life-long skills that will help keep them safe and weather any storm that may come their way. \nFor more information\, call (409) 781-8009.
URL:https://beaumonteventstx.com/event/southeast-texas-prep-rally/
LOCATION:Beaumont Civic Center\, 701 Main Street\, Beaumont\, TX\, 77701
CATEGORIES:Expos
ATTACH;FMTTYPE=image/jpeg:https://beaumonteventstx.com/wp-content/uploads/2018/07/download.jpg
END:VEVENT
BEGIN:VEVENT
DTSTART;TZID=America/Chicago:20180805T150000
DTEND;TZID=America/Chicago:20180805T213000
DTSTAMP:20260422T054053
CREATED:20180713T202432Z
LAST-MODIFIED:20180726T192959Z
UID:12817-1533481200-1533504600@beaumonteventstx.com
SUMMARY:VeteranFest
DESCRIPTION:VeteranFest\nDowntown Event Centre\nSunday\, August 5\n2:00pm – 8:30pm\nPinning ceremony 2:30pm \nThe event is hosted by Young Americans Overseas\, a nonprofit that assists Post-9/11 veterans with housing and is building Texas’s first Women Veterans and Women First Responder Park. The event is sponsored by Humana\, a leading health and well-being company\, and MARVIC International\, LLC\, a veterans-owned general contractor.\nThe event will include live performances by Highway Sisters\, Byrd Law\, Wild Rabbit Salad\, John Cessac\, Courtney Hale Revia\, Dustin Kelley\, John Thibodeaux\, iRule Dance and free food and drinks. The event is free with RSVP. For tickets call (409) 923-0804 or visit: youngamericansoverseas.org/veteranfest2018/\nIn addition\, Young Americans Overseas and Humana will host a Vietnam Veterans Pinning Ceremony. Young Americans Overseas and Humana are Commemorative Partners for the Vietnam War Commemoration\, a federal program established in 2012 by the President and Congress to commemorate the 50th anniversary of the Vietnam War\, and to thank and honor Vietnam veterans. Veterans who served on active duty in the U.S. Armed Forces between Nov. 1\, 1955\, and May 15\, 1975\, regardless of location\, are eligible to participate in the ceremony. This is anticipated to be one of the largest pinning ceremonies in Southeast Texas to date.\nProceeds from the VeteransFest will go towards building Texas’s first Women Veteran and Women First Responder Park. For more information visit youngamericansoverseas.org. \nThe Vietnam Veterans Pinning Ceremony is meant to recognize Vietnam veterans and their families for their service and serves as a welcome home. According to the Department of Veterans Affairs\, 9 million Americans served on active duty in the U.S. Armed Forces during the Vietnam War; approximately 7 million are living today. For more on the program\, visit www.vietnamwar50th.com.
URL:https://beaumonteventstx.com/event/veteranfest/
LOCATION:Lake at Downtown Event Centre\, 700 Crockett St\, Beaumont\, TX\, 77701
CATEGORIES:Featured,Festivals
ATTACH;FMTTYPE=image/jpeg:https://beaumonteventstx.com/wp-content/uploads/2018/07/veteranfest.jpg
ORGANIZER;CN="Young Americans Overseas":MAILTO:gage@youngamericansoverseas.org
END:VEVENT
END:VCALENDAR